BEGIN:VCALENDAR
VERSION:2.0
PRODID:-//CULTURAL AGENTS - ECPv6.15.20//NONSGML v1.0//EN
CALSCALE:GREGORIAN
METHOD:PUBLISH
X-WR-CALNAME:CULTURAL AGENTS
X-ORIGINAL-URL:https://culturalagents.org
X-WR-CALDESC:Events for CULTURAL AGENTS
REFRESH-INTERVAL;VALUE=DURATION:PT1H
X-Robots-Tag:noindex
X-PUBLISHED-TTL:PT1H
BEGIN:VTIMEZONE
TZID:America/New_York
BEGIN:DAYLIGHT
TZOFFSETFROM:-0500
TZOFFSETTO:-0400
TZNAME:EDT
DTSTART:20240310T070000
END:DAYLIGHT
BEGIN:STANDARD
TZOFFSETFROM:-0400
TZOFFSETTO:-0500
TZNAME:EST
DTSTART:20241103T060000
END:STANDARD
BEGIN:DAYLIGHT
TZOFFSETFROM:-0500
TZOFFSETTO:-0400
TZNAME:EDT
DTSTART:20250309T070000
END:DAYLIGHT
BEGIN:STANDARD
TZOFFSETFROM:-0400
TZOFFSETTO:-0500
TZNAME:EST
DTSTART:20251102T060000
END:STANDARD
BEGIN:DAYLIGHT
TZOFFSETFROM:-0500
TZOFFSETTO:-0400
TZNAME:EDT
DTSTART:20260308T070000
END:DAYLIGHT
BEGIN:STANDARD
TZOFFSETFROM:-0400
TZOFFSETTO:-0500
TZNAME:EST
DTSTART:20261101T060000
END:STANDARD
END:VTIMEZONE
BEGIN:VEVENT
DTSTART;TZID=America/New_York:20250110T080000
DTEND;TZID=America/New_York:20250110T170000
DTSTAMP:20260421T055923
CREATED:20250110T230455Z
LAST-MODIFIED:20250110T231404Z
UID:3294-1736496000-1736528400@culturalagents.org
SUMMARY:Pre-Texts: The Arts Teach (Everything) A Workshop in Literacy\, Creativity\, and Democracy
DESCRIPTION:The sessions will take place on January 15th and 17th from 10 AM to 5 PM at the Microsoft Garage in Manhattan. Participants include members of the Microsoft team\, the Civic engagement Commission of NYC\, the New School\, Guggenheim Museum\, Bard College\, EnjoyJazz\, and other artists and educators. This training will prepare for certification as Pre-Texts facilitators. Stay tuned for sequels in the City!
URL:https://culturalagents.org/event/pre-texts-the-arts-teach-everything-a-workshop-in-literacy-creativity-and-democracy/
END:VEVENT
END:VCALENDAR