BEGIN:VCALENDAR
VERSION:2.0
PRODID:-//CULTURAL AGENTS - ECPv6.15.20//NONSGML v1.0//EN
CALSCALE:GREGORIAN
METHOD:PUBLISH
X-ORIGINAL-URL:https://culturalagents.org
X-WR-CALDESC:Events for CULTURAL AGENTS
REFRESH-INTERVAL;VALUE=DURATION:PT1H
X-Robots-Tag:noindex
X-PUBLISHED-TTL:PT1H
BEGIN:VTIMEZONE
TZID:America/New_York
BEGIN:DAYLIGHT
TZOFFSETFROM:-0500
TZOFFSETTO:-0400
TZNAME:EDT
DTSTART:20240310T070000
END:DAYLIGHT
BEGIN:STANDARD
TZOFFSETFROM:-0400
TZOFFSETTO:-0500
TZNAME:EST
DTSTART:20241103T060000
END:STANDARD
BEGIN:DAYLIGHT
TZOFFSETFROM:-0500
TZOFFSETTO:-0400
TZNAME:EDT
DTSTART:20250309T070000
END:DAYLIGHT
BEGIN:STANDARD
TZOFFSETFROM:-0400
TZOFFSETTO:-0500
TZNAME:EST
DTSTART:20251102T060000
END:STANDARD
BEGIN:DAYLIGHT
TZOFFSETFROM:-0500
TZOFFSETTO:-0400
TZNAME:EDT
DTSTART:20260308T070000
END:DAYLIGHT
BEGIN:STANDARD
TZOFFSETFROM:-0400
TZOFFSETTO:-0500
TZNAME:EST
DTSTART:20261101T060000
END:STANDARD
END:VTIMEZONE
BEGIN:VEVENT
DTSTART;TZID=America/New_York:20251110T153000
DTEND;TZID=America/New_York:20251110T170000
DTSTAMP:20260422T174820
CREATED:20251104T003006Z
LAST-MODIFIED:20251104T003021Z
UID:3719-1762788600-1762794000@culturalagents.org
SUMMARY:AI and the Human Metaphor
DESCRIPTION:The Mahindra Humanities Center at Harvard presents “AI and the Human Metaphor\,” a conversation exploring how artificial intelligence redefines our understanding of the human experience. Featuring Fawwaz Habbal (Harvard University)\, the event examines the intersections of technology\, language\, and human identity. \nDate: November 10\, 2025\nTime: 3:30–5:00 PM (ET)\nLocation: Barker Center\, Room 018
URL:https://culturalagents.org/event/ai-and-the-human-metaphor/
LOCATION:Barker Center\, Room 018\, Barker Center\, Room 018
CATEGORIES:Cultural Agents
ATTACH;FMTTYPE=image/jpeg:https://culturalagents.org/wp-content/uploads/2025/11/imagenes-octubre.jpg
END:VEVENT
END:VCALENDAR