BEGIN:VCALENDAR
VERSION:2.0
PRODID:-//CULTURAL AGENTS - ECPv6.15.20//NONSGML v1.0//EN
CALSCALE:GREGORIAN
METHOD:PUBLISH
X-ORIGINAL-URL:https://culturalagents.org
X-WR-CALDESC:Events for CULTURAL AGENTS
REFRESH-INTERVAL;VALUE=DURATION:PT1H
X-Robots-Tag:noindex
X-PUBLISHED-TTL:PT1H
BEGIN:VTIMEZONE
TZID:America/New_York
BEGIN:DAYLIGHT
TZOFFSETFROM:-0500
TZOFFSETTO:-0400
TZNAME:EDT
DTSTART:20240310T070000
END:DAYLIGHT
BEGIN:STANDARD
TZOFFSETFROM:-0400
TZOFFSETTO:-0500
TZNAME:EST
DTSTART:20241103T060000
END:STANDARD
BEGIN:DAYLIGHT
TZOFFSETFROM:-0500
TZOFFSETTO:-0400
TZNAME:EDT
DTSTART:20250309T070000
END:DAYLIGHT
BEGIN:STANDARD
TZOFFSETFROM:-0400
TZOFFSETTO:-0500
TZNAME:EST
DTSTART:20251102T060000
END:STANDARD
BEGIN:DAYLIGHT
TZOFFSETFROM:-0500
TZOFFSETTO:-0400
TZNAME:EDT
DTSTART:20260308T070000
END:DAYLIGHT
BEGIN:STANDARD
TZOFFSETFROM:-0400
TZOFFSETTO:-0500
TZNAME:EST
DTSTART:20261101T060000
END:STANDARD
END:VTIMEZONE
BEGIN:VEVENT
DTSTART;TZID=America/New_York:20251120T163000
DTEND;TZID=America/New_York:20251120T180000
DTSTAMP:20260422T174823
CREATED:20251104T001608Z
LAST-MODIFIED:20251104T001813Z
UID:3711-1763656200-1763661600@culturalagents.org
SUMMARY:Staging Political Virtue: Plato’s Republic and the Drama of Desire
DESCRIPTION:November 20\, 2025. 4:30PM – 06:00PM CGIS South\, 1730 Cambridge St. S020 \nSpeaker: Alessandro Carrera\, University of Houston \nDiscussant: Martin Puchner\, Harvard University\nPlato’s Republic has shaped how we think about politics\, ethics\, and justice for more than two millennia. In On Political Virtue: Plato’s Republic and the Politics of Desire\, the Italian philosopher Carlo Sini reinterprets this foundational dialogue in a strikingly original way. Rather than treating it as a straightforward defense of reason or ideal governance\, Sini reads Plato’s work as a theatrical piece. Alessandro Carrera\, the book’s editor and translator\, will guide us through Sini’s provocative re-reading of Plato. \nhttps://mahindrahumanities.harvard.edu/event/staging-political-virtue-platos-republic-and-drama-desire
URL:https://culturalagents.org/event/staging-political-virtue-platos-republic-and-the-drama-of-desire/
LOCATION:CGIS South\, 1730 Cambridge St. S020\, CGIS South\, 1730 Cambridge St. S020
CATEGORIES:Cultural Agents
ATTACH;FMTTYPE=image/jpeg:https://culturalagents.org/wp-content/uploads/2025/11/imagenes-octubre.jpg
END:VEVENT
END:VCALENDAR