BEGIN:VCALENDAR
VERSION:2.0
PRODID:-//CULTURAL AGENTS - ECPv6.15.20//NONSGML v1.0//EN
CALSCALE:GREGORIAN
METHOD:PUBLISH
X-ORIGINAL-URL:https://culturalagents.org
X-WR-CALDESC:Events for CULTURAL AGENTS
REFRESH-INTERVAL;VALUE=DURATION:PT1H
X-Robots-Tag:noindex
X-PUBLISHED-TTL:PT1H
BEGIN:VTIMEZONE
TZID:America/New_York
BEGIN:DAYLIGHT
TZOFFSETFROM:-0500
TZOFFSETTO:-0400
TZNAME:EDT
DTSTART:20240310T070000
END:DAYLIGHT
BEGIN:STANDARD
TZOFFSETFROM:-0400
TZOFFSETTO:-0500
TZNAME:EST
DTSTART:20241103T060000
END:STANDARD
BEGIN:DAYLIGHT
TZOFFSETFROM:-0500
TZOFFSETTO:-0400
TZNAME:EDT
DTSTART:20250309T070000
END:DAYLIGHT
BEGIN:STANDARD
TZOFFSETFROM:-0400
TZOFFSETTO:-0500
TZNAME:EST
DTSTART:20251102T060000
END:STANDARD
BEGIN:DAYLIGHT
TZOFFSETFROM:-0500
TZOFFSETTO:-0400
TZNAME:EDT
DTSTART:20260308T070000
END:DAYLIGHT
BEGIN:STANDARD
TZOFFSETFROM:-0400
TZOFFSETTO:-0500
TZNAME:EST
DTSTART:20261101T060000
END:STANDARD
END:VTIMEZONE
BEGIN:VEVENT
DTSTART;TZID=America/New_York:20251124T170000
DTEND;TZID=America/New_York:20251124T190000
DTSTAMP:20260422T174820
CREATED:20251104T000817Z
LAST-MODIFIED:20251104T001924Z
UID:3704-1764003600-1764010800@culturalagents.org
SUMMARY:Applied Humanities: Who Needs the Humanities?
DESCRIPTION:The Harvard English Department invites the community to a conversation exploring the growing relevance of the humanities beyond academia. While traditional departments face decline\, the demand for humanistic perspectives in business\, policy\, and technology continues to rise. \nSpeakers Tarun Khanna (Harvard Business School)\, Doris Sommer (Romance Languages)\, and Moira Weigel (Comparative Literature) will discuss this vital paradox and its implications for education and society. \n📅 November 24\, 5–7 PM📍 Thompson Room\, 12 Quincy St.\, Cambridge
URL:https://culturalagents.org/event/applied-humanities/
LOCATION:Thompson Room\, 12 Quincy St.\, Cambridge\, Thompson Room\, 12 Quincy St.\, Cambridge\, Cambridge\, MA\, MA\, United States
CATEGORIES:Cultural Agents
ATTACH;FMTTYPE=image/jpeg:https://culturalagents.org/wp-content/uploads/2025/11/imagenes-octubre-11.jpg
END:VEVENT
END:VCALENDAR