BEGIN:VCALENDAR
VERSION:2.0
PRODID:-//CULTURAL AGENTS - ECPv6.15.20//NONSGML v1.0//EN
CALSCALE:GREGORIAN
METHOD:PUBLISH
X-WR-CALNAME:CULTURAL AGENTS
X-ORIGINAL-URL:https://culturalagents.org
X-WR-CALDESC:Events for CULTURAL AGENTS
REFRESH-INTERVAL;VALUE=DURATION:PT1H
X-Robots-Tag:noindex
X-PUBLISHED-TTL:PT1H
BEGIN:VTIMEZONE
TZID:America/New_York
BEGIN:DAYLIGHT
TZOFFSETFROM:-0500
TZOFFSETTO:-0400
TZNAME:EDT
DTSTART:20240310T070000
END:DAYLIGHT
BEGIN:STANDARD
TZOFFSETFROM:-0400
TZOFFSETTO:-0500
TZNAME:EST
DTSTART:20241103T060000
END:STANDARD
BEGIN:DAYLIGHT
TZOFFSETFROM:-0500
TZOFFSETTO:-0400
TZNAME:EDT
DTSTART:20250309T070000
END:DAYLIGHT
BEGIN:STANDARD
TZOFFSETFROM:-0400
TZOFFSETTO:-0500
TZNAME:EST
DTSTART:20251102T060000
END:STANDARD
BEGIN:DAYLIGHT
TZOFFSETFROM:-0500
TZOFFSETTO:-0400
TZNAME:EDT
DTSTART:20260308T070000
END:DAYLIGHT
BEGIN:STANDARD
TZOFFSETFROM:-0400
TZOFFSETTO:-0500
TZNAME:EST
DTSTART:20261101T060000
END:STANDARD
END:VTIMEZONE
BEGIN:VEVENT
DTSTART;TZID=America/New_York:20251205T180000
DTEND;TZID=America/New_York:20251205T200000
DTSTAMP:20260422T160204
CREATED:20251103T234042Z
LAST-MODIFIED:20251104T002015Z
UID:3700-1764957600-1764964800@culturalagents.org
SUMMARY:Formazione Pre-Texts: Contesti di Guerra
DESCRIPTION:Pre-Texts Training: Contexts of War\nJoin the Pre-Texts workshop series in Milan from December 5 to 8 at the Centro Internazionale di Brera.\nThis program explores creative literacy tools for communities affected by conflict through five engaging sessions. \n📍 Centro Internazionale di Brera\, Via Marco Formentini 10\, Milan\n📅 Presentation: Friday\, December 5\, 6–8 PM \nFor information and registration: amministrazione@rescueteam.ong
URL:https://culturalagents.org/event/formazione-pre-texts-contesti-di-guerra/
LOCATION:Centro Internazionale di Brera\, Via Marco Formentini 10\, Milan\, Centro Internazionale di Brera\, Via Marco Formentini 10\, Milan\, Italy
CATEGORIES:Cultural Agents,Pre-Texts
ATTACH;FMTTYPE=image/jpeg:https://culturalagents.org/wp-content/uploads/2025/11/imagenes-octubre-10.jpg
END:VEVENT
END:VCALENDAR