BEGIN:VCALENDAR
VERSION:2.0
PRODID:-//CULTURAL AGENTS - ECPv6.15.20//NONSGML v1.0//EN
CALSCALE:GREGORIAN
METHOD:PUBLISH
X-WR-CALNAME:CULTURAL AGENTS
X-ORIGINAL-URL:https://culturalagents.org
X-WR-CALDESC:Events for CULTURAL AGENTS
REFRESH-INTERVAL;VALUE=DURATION:PT1H
X-Robots-Tag:noindex
X-PUBLISHED-TTL:PT1H
BEGIN:VTIMEZONE
TZID:America/New_York
BEGIN:DAYLIGHT
TZOFFSETFROM:-0500
TZOFFSETTO:-0400
TZNAME:EDT
DTSTART:20240310T070000
END:DAYLIGHT
BEGIN:STANDARD
TZOFFSETFROM:-0400
TZOFFSETTO:-0500
TZNAME:EST
DTSTART:20241103T060000
END:STANDARD
BEGIN:DAYLIGHT
TZOFFSETFROM:-0500
TZOFFSETTO:-0400
TZNAME:EDT
DTSTART:20250309T070000
END:DAYLIGHT
BEGIN:STANDARD
TZOFFSETFROM:-0400
TZOFFSETTO:-0500
TZNAME:EST
DTSTART:20251102T060000
END:STANDARD
BEGIN:DAYLIGHT
TZOFFSETFROM:-0500
TZOFFSETTO:-0400
TZNAME:EDT
DTSTART:20260308T070000
END:DAYLIGHT
BEGIN:STANDARD
TZOFFSETFROM:-0400
TZOFFSETTO:-0500
TZNAME:EST
DTSTART:20261101T060000
END:STANDARD
END:VTIMEZONE
BEGIN:VEVENT
DTSTART;TZID=America/New_York:20251205T180000
DTEND;TZID=America/New_York:20251205T200000
DTSTAMP:20260421T044532
CREATED:20251103T234042Z
LAST-MODIFIED:20251104T002015Z
UID:3700-1764957600-1764964800@culturalagents.org
SUMMARY:Formazione Pre-Texts: Contesti di Guerra
DESCRIPTION:Pre-Texts Training: Contexts of War\nJoin the Pre-Texts workshop series in Milan from December 5 to 8 at the Centro Internazionale di Brera.\nThis program explores creative literacy tools for communities affected by conflict through five engaging sessions. \n📍 Centro Internazionale di Brera\, Via Marco Formentini 10\, Milan\n📅 Presentation: Friday\, December 5\, 6–8 PM \nFor information and registration: amministrazione@rescueteam.ong
URL:https://culturalagents.org/event/formazione-pre-texts-contesti-di-guerra/
LOCATION:Centro Internazionale di Brera\, Via Marco Formentini 10\, Milan\, Centro Internazionale di Brera\, Via Marco Formentini 10\, Milan\, Italy
CATEGORIES:Cultural Agents,Pre-Texts
ATTACH;FMTTYPE=image/jpeg:https://culturalagents.org/wp-content/uploads/2025/11/imagenes-octubre-10.jpg
END:VEVENT
BEGIN:VEVENT
DTSTART;TZID=America/New_York:20251201T163000
DTEND;TZID=America/New_York:20251201T183000
DTSTAMP:20260421T044532
CREATED:20251104T010157Z
LAST-MODIFIED:20251104T010157Z
UID:3723-1764606600-1764613800@culturalagents.org
SUMMARY:Pre-Texts at the Bok Center: The Arts Teach (Everything)
DESCRIPTION:Join us on December 1\, 2025 (4:30–6:30 PM) at the Derek Bok Center for Teaching and Learning\, 50 Church Street. Pre-Texts: The Arts Teach (Everything) introduces a creative pedagogy that turns texts into art-making materials\, transforming challenges into opportunities for learning. Inspired by thinkers such as Montessori\, Freire\, and Dewey\, the program invites educators to explore teaching as an art. Training continues in Spring 2026.
URL:https://culturalagents.org/event/bok-center-the-arts/
LOCATION:Derek Bok Center for Teaching and Learning\, 50 Church Street\, Derek Bok Center for Teaching and Learning\, 50 Church Street
CATEGORIES:Cultural Agents
ATTACH;FMTTYPE=image/jpeg:https://culturalagents.org/wp-content/uploads/2025/11/imagenes-octubre-13.jpg
END:VEVENT
BEGIN:VEVENT
DTSTART;TZID=America/New_York:20251124T170000
DTEND;TZID=America/New_York:20251124T190000
DTSTAMP:20260421T044532
CREATED:20251104T000817Z
LAST-MODIFIED:20251104T001924Z
UID:3704-1764003600-1764010800@culturalagents.org
SUMMARY:Applied Humanities: Who Needs the Humanities?
DESCRIPTION:The Harvard English Department invites the community to a conversation exploring the growing relevance of the humanities beyond academia. While traditional departments face decline\, the demand for humanistic perspectives in business\, policy\, and technology continues to rise. \nSpeakers Tarun Khanna (Harvard Business School)\, Doris Sommer (Romance Languages)\, and Moira Weigel (Comparative Literature) will discuss this vital paradox and its implications for education and society. \n📅 November 24\, 5–7 PM📍 Thompson Room\, 12 Quincy St.\, Cambridge
URL:https://culturalagents.org/event/applied-humanities/
LOCATION:Thompson Room\, 12 Quincy St.\, Cambridge\, Thompson Room\, 12 Quincy St.\, Cambridge\, Cambridge\, MA\, MA\, United States
CATEGORIES:Cultural Agents
ATTACH;FMTTYPE=image/jpeg:https://culturalagents.org/wp-content/uploads/2025/11/imagenes-octubre-11.jpg
END:VEVENT
BEGIN:VEVENT
DTSTART;TZID=America/New_York:20251120T163000
DTEND;TZID=America/New_York:20251120T180000
DTSTAMP:20260421T044532
CREATED:20251104T001608Z
LAST-MODIFIED:20251104T001813Z
UID:3711-1763656200-1763661600@culturalagents.org
SUMMARY:Staging Political Virtue: Plato’s Republic and the Drama of Desire
DESCRIPTION:November 20\, 2025. 4:30PM – 06:00PM CGIS South\, 1730 Cambridge St. S020 \nSpeaker: Alessandro Carrera\, University of Houston \nDiscussant: Martin Puchner\, Harvard University\nPlato’s Republic has shaped how we think about politics\, ethics\, and justice for more than two millennia. In On Political Virtue: Plato’s Republic and the Politics of Desire\, the Italian philosopher Carlo Sini reinterprets this foundational dialogue in a strikingly original way. Rather than treating it as a straightforward defense of reason or ideal governance\, Sini reads Plato’s work as a theatrical piece. Alessandro Carrera\, the book’s editor and translator\, will guide us through Sini’s provocative re-reading of Plato. \nhttps://mahindrahumanities.harvard.edu/event/staging-political-virtue-platos-republic-and-drama-desire
URL:https://culturalagents.org/event/staging-political-virtue-platos-republic-and-the-drama-of-desire/
LOCATION:CGIS South\, 1730 Cambridge St. S020\, CGIS South\, 1730 Cambridge St. S020
CATEGORIES:Cultural Agents
ATTACH;FMTTYPE=image/jpeg:https://culturalagents.org/wp-content/uploads/2025/11/imagenes-octubre.jpg
END:VEVENT
BEGIN:VEVENT
DTSTART;TZID=America/New_York:20251118T170000
DTEND;TZID=America/New_York:20251118T190000
DTSTAMP:20260421T044532
CREATED:20251104T001257Z
LAST-MODIFIED:20251104T002155Z
UID:3708-1763485200-1763492400@culturalagents.org
SUMMARY:Art & AI: A Conversation
DESCRIPTION:The Lemann Program on Creativity and Entrepreneurship\, the Office for the Arts\, and Blueprints for Arts and Policy invite the Harvard community to Art & AI: A Conversation—an event that brings together over sixteen distinguished experts to explore the intersections of artistic creation and artificial intelligence. \nThe conversation will take place on November 18\, 2025\, from 5:00 PM to 7:00 PM at the Student Organizations Center at Hilles (SOCH)\, 59 Shepard St.\, Cambridge\, MA. Attendees will engage with ideas on how technology and creativity inform and transform each other\, shaping the future of art\, design\, and innovation.
URL:https://culturalagents.org/event/art-ai-a-conversation/
LOCATION:Student Organizations Center at Hilles (SOCH)\, Student Organizations Center at Hilles (SOCH)\, 59 Shepard St.\, Cambridge\, MA.\, Cambridge\, MA\, MA\, United States
CATEGORIES:Cultural Agents
ATTACH;FMTTYPE=image/jpeg:https://culturalagents.org/wp-content/uploads/2025/11/imagenes-octubre-12.jpg
END:VEVENT
BEGIN:VEVENT
DTSTART;TZID=America/New_York:20251110T153000
DTEND;TZID=America/New_York:20251110T170000
DTSTAMP:20260421T044532
CREATED:20251104T003006Z
LAST-MODIFIED:20251104T003021Z
UID:3719-1762788600-1762794000@culturalagents.org
SUMMARY:AI and the Human Metaphor
DESCRIPTION:The Mahindra Humanities Center at Harvard presents “AI and the Human Metaphor\,” a conversation exploring how artificial intelligence redefines our understanding of the human experience. Featuring Fawwaz Habbal (Harvard University)\, the event examines the intersections of technology\, language\, and human identity. \nDate: November 10\, 2025\nTime: 3:30–5:00 PM (ET)\nLocation: Barker Center\, Room 018
URL:https://culturalagents.org/event/ai-and-the-human-metaphor/
LOCATION:Barker Center\, Room 018\, Barker Center\, Room 018
CATEGORIES:Cultural Agents
ATTACH;FMTTYPE=image/jpeg:https://culturalagents.org/wp-content/uploads/2025/11/imagenes-octubre.jpg
END:VEVENT
BEGIN:VEVENT
DTSTART;TZID=America/New_York:20251105T080000
DTEND;TZID=America/New_York:20251105T170000
DTSTAMP:20260421T044532
CREATED:20251106T015856Z
LAST-MODIFIED:20251106T015915Z
UID:3729-1762329600-1762362000@culturalagents.org
SUMMARY:First Seedbed Encounter: A Day of Research\, Creativity\, and Collaboration
DESCRIPTION:1st Institutional Meeting of Agustinian Research Seedbeds 2025The 1st Institutional Meeting of Agustinian Research Seedbeds celebrates the commitment of students and faculty to research\, creativity\, and innovation across disciplines. This event provides a space for sharing academic projects\, exchanging ideas\, and strengthening collaboration among research groups within Uniagustiniana. \nThe program includes the launch of the Short Story Book – VIII Edition\, the presentation of the Pre-Texts project\, international guest discussions\, and a special recognition for outstanding research posters. \n📅 Wednesday\, November 5\, 2025🕗 8:00 AM – 5:00 PM
URL:https://culturalagents.org/event/seedbedagustiniano/
CATEGORIES:Cultural Agents,Pre-Texts
ATTACH;FMTTYPE=image/jpeg:https://culturalagents.org/wp-content/uploads/2025/11/WhatsApp-Image-2025-11-04-at-5.56.46-PM.jpeg
END:VEVENT
BEGIN:VEVENT
DTSTART;TZID=America/New_York:20250925T170000
DTEND;TZID=America/New_York:20250925T191500
DTSTAMP:20260421T044532
CREATED:20250915T163635Z
LAST-MODIFIED:20250915T163635Z
UID:3574-1758819600-1758827700@culturalagents.org
SUMMARY:Invocations of the Diaspora: A Conversation on the Art of Belonging
DESCRIPTION:September 25\, 2025  5.00-7.15pm  HAA Room 422 \nOrganized by the David Rockefeller Center for Latin American Studies and History of Art and Architecture Department. Harvard University. \nUpdates \nTwo decades ago\, migration and diaspora were central topics in critical discourse. Today\, a new urgency reinvigorates the diaspora experience. The Art of Belonging explores diaspora as generative of identity\, memory\, aesthetics\, space\, and belonging. \nSpeakers: artists Sandra Gamarra\, Tania Bruguera\, Rubén Ortiz-Torres\, curator Evan Garza\, and scholars Nelson Maldonado Torres (UCONN)\, Doris Sommer\, moderated by José Luis Falconi (Art History and Human Rights\, UConn) and Patricio del Real (History of Art and Architecture\, Harvard University). \nDeveloped in conjunction with the exhibition Three Variations of a Diasporic Landscape\, curated by José L. Falconi and on view at DRCLAS until March 2026 to map longing and belonging. Featured artists: Sandra Gamarra\, Naomi Gamarra\, and Sarah Zapata.
URL:https://culturalagents.org/event/invocations-of-the-diaspora-a-conversation-on-the-art-of-belonging/
CATEGORIES:Cultural Agents
ATTACH;FMTTYPE=image/png:https://culturalagents.org/wp-content/uploads/2025/09/Captura-de-pantalla-2025-09-14-a-las-11.20.03-p.m.png
END:VEVENT
BEGIN:VEVENT
DTSTART;TZID=America/New_York:20250923T080000
DTEND;TZID=America/New_York:20250925T170000
DTSTAMP:20260421T044532
CREATED:20250915T163950Z
LAST-MODIFIED:20250915T164018Z
UID:3578-1758614400-1758819600@culturalagents.org
SUMMARY:Pre-Texts Weaves Stories at Universidad Nacional de Colombia
DESCRIPTION:On September 23 and 25\, at the Publishing House of the National University of Colombia\, Bogotá Campus\, we will host a special workshop:\nPre-Texts: A Weave of Stories. This experience will invite participants to discover how words not only inform\, but also connect\, transform\, and build new ways of coming together. We look forward to welcoming you!
URL:https://culturalagents.org/event/3578/
CATEGORIES:Cultural Agents
ATTACH;FMTTYPE=image/png:https://culturalagents.org/wp-content/uploads/2025/09/Captura-de-pantalla-2025-09-14-a-las-11.20.43-p.m.png
END:VEVENT
END:VCALENDAR