BEGIN:VCALENDAR
VERSION:2.0
PRODID:-//CULTURAL AGENTS - ECPv6.15.20//NONSGML v1.0//EN
CALSCALE:GREGORIAN
METHOD:PUBLISH
X-WR-CALNAME:CULTURAL AGENTS
X-ORIGINAL-URL:https://culturalagents.org
X-WR-CALDESC:Events for CULTURAL AGENTS
REFRESH-INTERVAL;VALUE=DURATION:PT1H
X-Robots-Tag:noindex
X-PUBLISHED-TTL:PT1H
BEGIN:VTIMEZONE
TZID:America/New_York
BEGIN:DAYLIGHT
TZOFFSETFROM:-0500
TZOFFSETTO:-0400
TZNAME:EDT
DTSTART:20230312T070000
END:DAYLIGHT
BEGIN:STANDARD
TZOFFSETFROM:-0400
TZOFFSETTO:-0500
TZNAME:EST
DTSTART:20231105T060000
END:STANDARD
BEGIN:DAYLIGHT
TZOFFSETFROM:-0500
TZOFFSETTO:-0400
TZNAME:EDT
DTSTART:20240310T070000
END:DAYLIGHT
BEGIN:STANDARD
TZOFFSETFROM:-0400
TZOFFSETTO:-0500
TZNAME:EST
DTSTART:20241103T060000
END:STANDARD
BEGIN:DAYLIGHT
TZOFFSETFROM:-0500
TZOFFSETTO:-0400
TZNAME:EDT
DTSTART:20250309T070000
END:DAYLIGHT
BEGIN:STANDARD
TZOFFSETFROM:-0400
TZOFFSETTO:-0500
TZNAME:EST
DTSTART:20251102T060000
END:STANDARD
END:VTIMEZONE
BEGIN:VEVENT
DTSTART;TZID=America/New_York:20241008T180000
DTEND;TZID=America/New_York:20241008T200000
DTSTAMP:20260421T120835
CREATED:20241003T025734Z
LAST-MODIFIED:20241003T025950Z
UID:3141-1728410400-1728417600@culturalagents.org
SUMMARY:Conference Education and AI Ethics Conference at Harvard University
DESCRIPTION:Date: Tuesday\, October 8\, 2024\, 6:00 pm \nLocation: Barker Center\, Room 110 \nWe invite you to join the discussion: Education and AI Ethics\, featuring opening remarks by Mark Schiefsky (Harvard University) and Doris Sommer (Harvard University)\, with Charalambos Tsekeris (Greek National Commission for Bioethics & Technoethics) as the keynote speaker\, Ofrit Liviatan (Harvard University) as the respondent\, and Nicolas Prevelakis (Harvard University) as the moderator. The event will explore the responsible use of AI in education\, highlighting the importance of grounding it in pedagogical values that foster moral development\, equity\, and justice\, while prioritizing skill-building and social interaction over automation. Don’t miss this opportunity to engage in an insightful discussion about the future of AI in education. \nHere\, more info
URL:https://culturalagents.org/event/conference-education-and-ai-ethics-conference-at-harvard-university/
LOCATION:Barker Center\, Harvard College University Hall Cambridge\, MA 02138\, Boston\, MA\, United States
END:VEVENT
BEGIN:VEVENT
DTSTART;TZID=America/New_York:20240831T150000
DTEND;TZID=America/New_York:20240831T170000
DTSTAMP:20260421T120835
CREATED:20240807T191120Z
LAST-MODIFIED:20240807T191120Z
UID:3034-1725116400-1725123600@culturalagents.org
SUMMARY:Pre-Texts in Siempre Carrillo\, Buenos Aires
DESCRIPTION:
URL:https://culturalagents.org/event/pre-texts-in-siempre-carrillo-buenos-aires-6/
ATTACH;FMTTYPE=image/jpeg:https://culturalagents.org/wp-content/uploads/2024/08/CLub-espanol.jpeg
END:VEVENT
BEGIN:VEVENT
DTSTART;TZID=America/New_York:20240830T080000
DTEND;TZID=America/New_York:20240830T170000
DTSTAMP:20260421T120835
CREATED:20240910T161306Z
LAST-MODIFIED:20240910T161306Z
UID:3121-1725004800-1725037200@culturalagents.org
SUMMARY:Green Schools for the Pacific\, Colombia
DESCRIPTION:On August 29 and 30\, “Green Schools for the Pacific” hosted a 2-session demonstration of the Pre-Texts Workshop at the Alumni Club of the Universidad de los Andes\, academic launching pad for the collaboration to build and to develop faculty for new schools in the Afro-Pacific region of Chocó\, Colombia.
URL:https://culturalagents.org/event/green-schools-for-the-pacific-colombia-2/
ATTACH;FMTTYPE=image/jpeg:https://culturalagents.org/wp-content/uploads/2024/09/8-2024-workshop-colombia.jpeg
END:VEVENT
BEGIN:VEVENT
DTSTART;TZID=America/New_York:20240829T080000
DTEND;TZID=America/New_York:20240829T170000
DTSTAMP:20260421T120835
CREATED:20240910T161220Z
LAST-MODIFIED:20240910T161220Z
UID:3118-1724918400-1724950800@culturalagents.org
SUMMARY:Green Schools for the Pacific\, Colombia
DESCRIPTION:On August 29 and 30\, “Green Schools for the Pacific” hosted a 2-session demonstration of the Pre-Texts Workshop at the Alumni Club of the Universidad de los Andes\, academic launching pad for the collaboration to build and to develop faculty for new schools in the Afro-Pacific region of Chocó\, Colombia.
URL:https://culturalagents.org/event/green-schools-for-the-pacific-colombia/
ATTACH;FMTTYPE=image/jpeg:https://culturalagents.org/wp-content/uploads/2024/09/8-2024-workshop-colombia.jpeg
END:VEVENT
BEGIN:VEVENT
DTSTART;TZID=America/New_York:20240827T170000
DTEND;TZID=America/New_York:20240827T190000
DTSTAMP:20260421T120835
CREATED:20240807T185557Z
LAST-MODIFIED:20240807T185557Z
UID:3013-1724778000-1724785200@culturalagents.org
SUMMARY:Pre-Texts in Recreando Juntos\, Buenos Aires
DESCRIPTION:
URL:https://culturalagents.org/event/pre-texts-in-recreando-juntos-buenos-aires-3/
ATTACH;FMTTYPE=image/jpeg:https://culturalagents.org/wp-content/uploads/2024/08/Mugica-cierre-de-ano.jpg
END:VEVENT
BEGIN:VEVENT
DTSTART;TZID=America/New_York:20240825T080000
DTEND;TZID=America/New_York:20240825T170000
DTSTAMP:20260421T120835
CREATED:20240910T162108Z
LAST-MODIFIED:20240910T162108Z
UID:3130-1724572800-1724605200@culturalagents.org
SUMMARY:Nuquí\, "Caminos por Colombia"
DESCRIPTION:On August 25\, Antonio Copete\, Vice President of the EAFIT in Medellin and President of the Harvard-MIT club of Colombia [far right] and Doris Sommer visited Josefina Klinger\, founder of the NGO “Mano Cambiada\,”and geologist Vladimir Mosquera in Nuquí.
URL:https://culturalagents.org/event/nuqui-caminos-por-colombia/
ATTACH;FMTTYPE=image/jpeg:https://culturalagents.org/wp-content/uploads/2024/09/Antonio-Copete-Vice-far-right-Doris-Sommer-Josefina-Klinge-Vladimir-Mosquera.jpeg
END:VEVENT
BEGIN:VEVENT
DTSTART;TZID=America/New_York:20240824T150000
DTEND;TZID=America/New_York:20240824T170000
DTSTAMP:20260421T120835
CREATED:20240807T191016Z
LAST-MODIFIED:20240807T191016Z
UID:3032-1724511600-1724518800@culturalagents.org
SUMMARY:Pre-Texts in Siempre Carrillo\, Buenos Aires
DESCRIPTION:
URL:https://culturalagents.org/event/pre-texts-in-siempre-carrillo-buenos-aires-5/
ATTACH;FMTTYPE=image/jpeg:https://culturalagents.org/wp-content/uploads/2024/08/CLub-espanol.jpeg
END:VEVENT
BEGIN:VEVENT
DTSTART;TZID=America/New_York:20240820T170000
DTEND;TZID=America/New_York:20240820T190000
DTSTAMP:20260421T120835
CREATED:20240807T185403Z
LAST-MODIFIED:20240807T185808Z
UID:3010-1724173200-1724180400@culturalagents.org
SUMMARY:Pre-Texts in Recreando Juntos\, Buenos Aires
DESCRIPTION:
URL:https://culturalagents.org/event/pre-texts-in-recreando-juntos-buenos-aires-2/
ATTACH;FMTTYPE=image/jpeg:https://culturalagents.org/wp-content/uploads/2024/08/Mugica-cierre-de-ano.jpg
END:VEVENT
BEGIN:VEVENT
DTSTART;TZID=America/New_York:20240818T130000
DTEND;TZID=America/New_York:20240818T170000
DTSTAMP:20260421T120835
CREATED:20240807T192247Z
LAST-MODIFIED:20240807T192247Z
UID:3038-1723986000-1724000400@culturalagents.org
SUMMARY:Pre-Texts Argentina in Casa Walsh
DESCRIPTION:
URL:https://culturalagents.org/event/pre-texts-argentina-in-casa-walsh/
ATTACH;FMTTYPE=image/jpeg:https://culturalagents.org/wp-content/uploads/2024/08/casa-walsh.jpg
END:VEVENT
BEGIN:VEVENT
DTSTART;TZID=America/New_York:20240817T150000
DTEND;TZID=America/New_York:20240817T170000
DTSTAMP:20260421T120835
CREATED:20240807T190600Z
LAST-MODIFIED:20240807T190600Z
UID:3030-1723906800-1723914000@culturalagents.org
SUMMARY:Pre-Texts in Siempre Carrillo\, Buenos Aires
DESCRIPTION:
URL:https://culturalagents.org/event/pre-texts-in-siempre-carrillo-buenos-aires-4/
ATTACH;FMTTYPE=image/jpeg:https://culturalagents.org/wp-content/uploads/2024/08/CLub-espanol.jpeg
END:VEVENT
BEGIN:VEVENT
DTSTART;TZID=America/New_York:20240813T170000
DTEND;TZID=America/New_York:20240813T190000
DTSTAMP:20260421T120835
CREATED:20240807T185042Z
LAST-MODIFIED:20240807T185622Z
UID:3007-1723568400-1723575600@culturalagents.org
SUMMARY:Pre-Texts in Recreando Juntos\, Buenos Aires
DESCRIPTION:
URL:https://culturalagents.org/event/pre-texts-in-recreando-juntos-buenos-aires/
ATTACH;FMTTYPE=image/jpeg:https://culturalagents.org/wp-content/uploads/2024/08/Mugica-cierre-de-ano.jpg
END:VEVENT
BEGIN:VEVENT
DTSTART;TZID=America/New_York:20240810T150000
DTEND;TZID=America/New_York:20240810T170000
DTSTAMP:20260421T120835
CREATED:20240807T190444Z
LAST-MODIFIED:20240807T190444Z
UID:3028-1723302000-1723309200@culturalagents.org
SUMMARY:Pre-Texts in Siempre Carrillo\, Buenos Aires
DESCRIPTION:
URL:https://culturalagents.org/event/pre-texts-in-siempre-carrillo-buenos-aires-3/
ATTACH;FMTTYPE=image/jpeg:https://culturalagents.org/wp-content/uploads/2024/08/CLub-espanol.jpeg
END:VEVENT
BEGIN:VEVENT
DTSTART;TZID=America/New_York:20240810T150000
DTEND;TZID=America/New_York:20240810T170000
DTSTAMP:20260421T120835
CREATED:20240807T190332Z
LAST-MODIFIED:20240807T190332Z
UID:3024-1723302000-1723309200@culturalagents.org
SUMMARY:Pre-Texts in Siempre Carrillo\, Buenos Aires
DESCRIPTION:
URL:https://culturalagents.org/event/pre-texts-in-siempre-carrillo-buenos-aires-2/
ATTACH;FMTTYPE=image/jpeg:https://culturalagents.org/wp-content/uploads/2024/08/CLub-espanol.jpeg
END:VEVENT
BEGIN:VEVENT
DTSTART;TZID=America/New_York:20240806T170000
DTEND;TZID=America/New_York:20240806T190000
DTSTAMP:20260421T120835
CREATED:20240807T191309Z
LAST-MODIFIED:20240807T191309Z
UID:3036-1722963600-1722970800@culturalagents.org
SUMMARY:Select Pre-Texts in Recreando Juntos\, Buenos Aires
DESCRIPTION:
URL:https://culturalagents.org/event/select-pre-texts-in-recreando-juntos-buenos-aires/
ATTACH;FMTTYPE=image/jpeg:https://culturalagents.org/wp-content/uploads/2024/08/Mugica-cierre-de-ano.jpg
END:VEVENT
BEGIN:VEVENT
DTSTART;TZID=America/New_York:20240803T150000
DTEND;TZID=America/New_York:20240803T170000
DTSTAMP:20260421T120835
CREATED:20240807T190159Z
LAST-MODIFIED:20240807T190159Z
UID:3021-1722697200-1722704400@culturalagents.org
SUMMARY:Pre-Texts in Siempre Carrillo\, Buenos Aires
DESCRIPTION:
URL:https://culturalagents.org/event/pre-texts-in-siempre-carrillo-buenos-aires/
ATTACH;FMTTYPE=image/jpeg:https://culturalagents.org/wp-content/uploads/2024/08/CLub-espanol.jpeg
END:VEVENT
BEGIN:VEVENT
DTSTART;TZID=America/New_York:20240730T130000
DTEND;TZID=America/New_York:20240730T143000
DTSTAMP:20260421T120835
CREATED:20240816T152739Z
LAST-MODIFIED:20240816T152739Z
UID:3077-1722344400-1722349800@culturalagents.org
SUMMARY:“Arts\, Activism\, and Social Justice”\, Amoeba Tour at Harvard Arts Museums
DESCRIPTION:“Amoeba Tour” at the Harvard Arts Museums\, facilitated by conveners Anna Mudd and Cris Martin\, and by Doris Sommer. \nThe Aboeba tour was part of the Harvard Divinity School seminar: “Imagining a Better World: Art\, Activism\, and Social Justice.” Sponsored by Harvard University’s Asia Center\, the Center for African Studies\, the Davis Center for Russian and Eurasian Studies\, and the Global Health Education & Learning Incubator\, with support from Religion and Public Life at Harvard Divinity School and the Weatherhead Center for International Affairs.
URL:https://culturalagents.org/event/arts-activism-and-social-justice-amoeba-tour-at-harvard-arts-museums/
ATTACH;FMTTYPE=image/jpeg:https://culturalagents.org/wp-content/uploads/2024/08/WhatsApp-Image-2024-07-31-at-10.22.10-AM-3-1.jpeg
END:VEVENT
BEGIN:VEVENT
DTSTART;TZID=America/New_York:20240718T080000
DTEND;TZID=America/New_York:20240718T170000
DTSTAMP:20260421T120835
CREATED:20240807T183930Z
LAST-MODIFIED:20240807T185749Z
UID:3003-1721289600-1721322000@culturalagents.org
SUMMARY:Play Drive in the Hard Drive at Spazio Matta
DESCRIPTION:
URL:https://culturalagents.org/event/play-drive-in-the-hard-drive-at-spazio-matta-4/
ATTACH;FMTTYPE=image/jpeg:https://culturalagents.org/wp-content/uploads/2024/07/Flyer-Pre-Texts-play-drive-in-the-hard-drive.jpg
END:VEVENT
BEGIN:VEVENT
DTSTART;TZID=America/New_York:20240717T080000
DTEND;TZID=America/New_York:20240717T170000
DTSTAMP:20260421T120835
CREATED:20240807T183804Z
LAST-MODIFIED:20240807T185737Z
UID:3001-1721203200-1721235600@culturalagents.org
SUMMARY:Play Drive in the Hard Drive at Spazio Matta
DESCRIPTION:
URL:https://culturalagents.org/event/play-drive-in-the-hard-drive-at-spazio-matta-3/
ATTACH;FMTTYPE=image/jpeg:https://culturalagents.org/wp-content/uploads/2024/07/Flyer-Pre-Texts-play-drive-in-the-hard-drive.jpg
END:VEVENT
BEGIN:VEVENT
DTSTART;TZID=America/New_York:20240716T080000
DTEND;TZID=America/New_York:20240716T170000
DTSTAMP:20260421T120835
CREATED:20240807T183453Z
LAST-MODIFIED:20240807T185723Z
UID:2995-1721116800-1721149200@culturalagents.org
SUMMARY:Play Drive in the Hard Drive at Spazio Matta
DESCRIPTION:
URL:https://culturalagents.org/event/play-drive-in-the-hard-drive-at-spazio-matta-2/
ATTACH;FMTTYPE=image/jpeg:https://culturalagents.org/wp-content/uploads/2024/07/Flyer-Pre-Texts-play-drive-in-the-hard-drive.jpg
END:VEVENT
BEGIN:VEVENT
DTSTART;TZID=America/New_York:20240715T080000
DTEND;TZID=America/New_York:20240715T170000
DTSTAMP:20260421T120835
CREATED:20240807T183350Z
LAST-MODIFIED:20240807T185656Z
UID:2993-1721030400-1721062800@culturalagents.org
SUMMARY:Play Drive in the Hard Drive at Spazio Matta
DESCRIPTION:
URL:https://culturalagents.org/event/play-drive-in-the-hard-drive-at-spazio-matta/
ATTACH;FMTTYPE=image/jpeg:https://culturalagents.org/wp-content/uploads/2024/07/Flyer-Pre-Texts-play-drive-in-the-hard-drive.jpg
END:VEVENT
BEGIN:VEVENT
DTSTART;TZID=America/New_York:20240712T080000
DTEND;TZID=America/New_York:20240712T170000
DTSTAMP:20260421T120835
CREATED:20240625T204150Z
LAST-MODIFIED:20240625T204150Z
UID:2928-1720771200-1720803600@culturalagents.org
SUMMARY:Third Continental Conference on Afro-Latin American Studies 2024
DESCRIPTION:
URL:https://culturalagents.org/event/third-continental-conference-on-afro-latin-american-studies-2024-3/
ATTACH;FMTTYPE=image/png:https://culturalagents.org/wp-content/uploads/2024/06/Continental-conference.png
END:VEVENT
BEGIN:VEVENT
DTSTART;TZID=America/New_York:20240711T080000
DTEND;TZID=America/New_York:20240711T170000
DTSTAMP:20260421T120835
CREATED:20240625T204103Z
LAST-MODIFIED:20240625T204103Z
UID:2926-1720684800-1720717200@culturalagents.org
SUMMARY:Third Continental Conference on Afro-Latin American Studies 2024
DESCRIPTION:
URL:https://culturalagents.org/event/third-continental-conference-on-afro-latin-american-studies-2024-2/
ATTACH;FMTTYPE=image/png:https://culturalagents.org/wp-content/uploads/2024/06/Continental-conference.png
END:VEVENT
BEGIN:VEVENT
DTSTART;TZID=America/New_York:20240710T080000
DTEND;TZID=America/New_York:20240710T170000
DTSTAMP:20260421T120835
CREATED:20240625T204013Z
LAST-MODIFIED:20240625T204013Z
UID:2924-1720598400-1720630800@culturalagents.org
SUMMARY:Third Continental Conference on Afro-Latin American Studies 2024
DESCRIPTION:
URL:https://culturalagents.org/event/third-continental-conference-on-afro-latin-american-studies-2024/
ATTACH;FMTTYPE=image/png:https://culturalagents.org/wp-content/uploads/2024/06/Continental-conference.png
END:VEVENT
BEGIN:VEVENT
DTSTART;TZID=America/New_York:20240704T143000
DTEND;TZID=America/New_York:20240704T170000
DTSTAMP:20260421T120835
CREATED:20240807T184321Z
LAST-MODIFIED:20240807T184321Z
UID:3005-1720103400-1720112400@culturalagents.org
SUMMARY:Congress: Traditions and Innovations in Teaching Practices in Higher Education
DESCRIPTION:
URL:https://culturalagents.org/event/congress-traditions-and-innovations-in-teaching-practices-in-higher-education/
ATTACH;FMTTYPE=image/jpeg:https://culturalagents.org/wp-content/uploads/2024/07/Congreso-Educacion-Superior-Paraguay.jpg
END:VEVENT
BEGIN:VEVENT
DTSTART;TZID=America/New_York:20240531T080000
DTEND;TZID=America/New_York:20240531T170000
DTSTAMP:20260421T120835
CREATED:20240625T204247Z
LAST-MODIFIED:20240625T204247Z
UID:2930-1717142400-1717174800@culturalagents.org
SUMMARY:All Americas Sister Cities Summit
DESCRIPTION:
URL:https://culturalagents.org/event/all-americas-sister-cities-summit/
ATTACH;FMTTYPE=image/jpeg:https://culturalagents.org/wp-content/uploads/2024/06/sister-cities.jpeg
END:VEVENT
BEGIN:VEVENT
DTSTART;TZID=America/New_York:20240523T080000
DTEND;TZID=America/New_York:20240523T170000
DTSTAMP:20260421T120835
CREATED:20240625T204657Z
LAST-MODIFIED:20240625T204657Z
UID:2934-1716451200-1716483600@culturalagents.org
SUMMARY:Ginevra: CCN/Aterballetto in the State Archives in Modena
DESCRIPTION:
URL:https://culturalagents.org/event/ginevra-ccn-aterballetto-in-the-state-archives-in-modena/
ATTACH;FMTTYPE=image/png:https://culturalagents.org/wp-content/uploads/2024/05/Italia.png
END:VEVENT
BEGIN:VEVENT
DTSTART;TZID=America/New_York:20240430T080000
DTEND;TZID=America/New_York:20240430T170000
DTSTAMP:20260421T120835
CREATED:20240625T204437Z
LAST-MODIFIED:20240625T204437Z
UID:2932-1714464000-1714496400@culturalagents.org
SUMMARY:Slight Discomfort(s): Exploring Art’s Role in Human Rights
DESCRIPTION:
URL:https://culturalagents.org/event/slight-discomforts-exploring-arts-role-in-human-rights/
ATTACH;FMTTYPE=image/jpeg:https://culturalagents.org/wp-content/uploads/2024/05/JOSE-L.-FALCONI-Professor-of-art-and-human-rights-at-the-university-of-connecticut-April-30-2024-•-1500–1700-566x800-1.jpg
END:VEVENT
BEGIN:VEVENT
DTSTART;TZID=America/New_York:20240329T100000
DTEND;TZID=America/New_York:20240329T123000
DTSTAMP:20260421T120835
CREATED:20240306T192541Z
LAST-MODIFIED:20240404T154657Z
UID:2505-1711706400-1711715400@culturalagents.org
SUMMARY:Pre-Texts Workshop in Fondazione La Rocca
DESCRIPTION:From March 26th to 29th\, Fondazione La Rocca will host a Pre-Texts Workshop for  teachers and school directors\, as well as for social and health workers/operators and cultural associations that already have experience in cultural interventions with social impact.
URL:https://culturalagents.org/event/pre-texts-workshop-in-fondazione-la-rocca-4/
ATTACH;FMTTYPE=image/jpeg:https://culturalagents.org/wp-content/uploads/2024/03/Flyer-edit.jpg
END:VEVENT
BEGIN:VEVENT
DTSTART;TZID=America/New_York:20240328T100000
DTEND;TZID=America/New_York:20240328T123000
DTSTAMP:20260421T120835
CREATED:20240306T192222Z
LAST-MODIFIED:20240404T154705Z
UID:2503-1711620000-1711629000@culturalagents.org
SUMMARY:Pre-Texts Workshop in Fondazione La Rocca
DESCRIPTION:From March 26th to 29th\, Fondazione La Rocca will host a Pre-Texts Workshop for  teachers and school directors\, as well as for social and health workers/operators and cultural associations that already have experience in cultural interventions with social impact.
URL:https://culturalagents.org/event/pre-texts-workshop-in-fondazione-la-rocca-3/
ATTACH;FMTTYPE=image/jpeg:https://culturalagents.org/wp-content/uploads/2024/03/Flyer-edit.jpg
END:VEVENT
BEGIN:VEVENT
DTSTART;TZID=America/New_York:20240327T163000
DTEND;TZID=America/New_York:20240327T193000
DTSTAMP:20260421T120835
CREATED:20240306T191948Z
LAST-MODIFIED:20240404T154737Z
UID:2501-1711557000-1711567800@culturalagents.org
SUMMARY:Pre-Texts Workshop in Fondazione La Rocca
DESCRIPTION:From March 26th to 29th\, Fondazione La Rocca will host a Pre-Texts Workshop for  teachers and school directors\, as well as for social and health workers/operators and cultural associations that already have experience in cultural interventions with social impact.
URL:https://culturalagents.org/event/pre-texts-workshop-in-fondazione-la-rocca-2/
ATTACH;FMTTYPE=image/jpeg:https://culturalagents.org/wp-content/uploads/2024/03/Flyer-edit.jpg
END:VEVENT
END:VCALENDAR