BEGIN:VCALENDAR
VERSION:2.0
PRODID:-//CULTURAL AGENTS - ECPv6.15.20//NONSGML v1.0//EN
CALSCALE:GREGORIAN
METHOD:PUBLISH
X-WR-CALNAME:CULTURAL AGENTS
X-ORIGINAL-URL:https://culturalagents.org
X-WR-CALDESC:Events for CULTURAL AGENTS
REFRESH-INTERVAL;VALUE=DURATION:PT1H
X-Robots-Tag:noindex
X-PUBLISHED-TTL:PT1H
BEGIN:VTIMEZONE
TZID:America/New_York
BEGIN:DAYLIGHT
TZOFFSETFROM:-0500
TZOFFSETTO:-0400
TZNAME:EDT
DTSTART:20230312T070000
END:DAYLIGHT
BEGIN:STANDARD
TZOFFSETFROM:-0400
TZOFFSETTO:-0500
TZNAME:EST
DTSTART:20231105T060000
END:STANDARD
BEGIN:DAYLIGHT
TZOFFSETFROM:-0500
TZOFFSETTO:-0400
TZNAME:EDT
DTSTART:20240310T070000
END:DAYLIGHT
BEGIN:STANDARD
TZOFFSETFROM:-0400
TZOFFSETTO:-0500
TZNAME:EST
DTSTART:20241103T060000
END:STANDARD
BEGIN:DAYLIGHT
TZOFFSETFROM:-0500
TZOFFSETTO:-0400
TZNAME:EDT
DTSTART:20250309T070000
END:DAYLIGHT
BEGIN:STANDARD
TZOFFSETFROM:-0400
TZOFFSETTO:-0500
TZNAME:EST
DTSTART:20251102T060000
END:STANDARD
END:VTIMEZONE
BEGIN:VEVENT
DTSTART;TZID=America/New_York:20240120T100000
DTEND;TZID=America/New_York:20240120T123000
DTSTAMP:20260421T003102
CREATED:20240306T193242Z
LAST-MODIFIED:20240404T160811Z
UID:2507-1705744800-1705753800@culturalagents.org
SUMMARY:Pre-Texts Training in Casa Arcobaleno
DESCRIPTION:Giulia Candeloro and Mara Patricelli will be facilitating a training at Casa Arcobaleno\, the point of meeting of all the LGBTQIA+ associations of Pescara\, Italy. Its aimed for activists\, teachers\, and cultural operators.
URL:https://culturalagents.org/event/pre-texts-trainin-in-casa-arcobaleno/
ATTACH;FMTTYPE=image/jpeg:https://culturalagents.org/wp-content/uploads/2024/03/flyer.jpg
END:VEVENT
BEGIN:VEVENT
DTSTART;TZID=America/New_York:20240127T100000
DTEND;TZID=America/New_York:20240127T123000
DTSTAMP:20260421T003102
CREATED:20240306T193806Z
LAST-MODIFIED:20240404T160819Z
UID:2511-1706349600-1706358600@culturalagents.org
SUMMARY:Pre-Texts Training in Casa Arcobaleno
DESCRIPTION:Giulia Candeloro and Mara Patricelli will be facilitating a training at Casa Arcobaleno\, the point of meeting of all the LGBTQIA+ associations of Pescara\, Italy. Its aimed for activists\, teachers\, and cultural operators.
URL:https://culturalagents.org/event/pre-texts-training-in-casa-arcobaleno/
ATTACH;FMTTYPE=image/jpeg:https://culturalagents.org/wp-content/uploads/2024/03/flyer.jpg
END:VEVENT
BEGIN:VEVENT
DTSTART;TZID=America/New_York:20240207T173000
DTEND;TZID=America/New_York:20240207T190000
DTSTAMP:20260421T003102
CREATED:20240314T181837Z
LAST-MODIFIED:20240404T160826Z
UID:2596-1707327000-1707332400@culturalagents.org
SUMMARY:Pre-Texts Meetings at Fontecchio
DESCRIPTION:Fontecchio is a town in Italy with about 300 inhabitants from approximately 15 different communities. Valeria Pica and Giulia Candeloro will lead a series of Pre-Texts meetings to read ‘Ritual’ by Dimitris Xygalatas and discuss social inclusion from the perspective of personal traditions.\nIt is organized in collaboration with the Municipality of Fontecchio and will be held in the local library.
URL:https://culturalagents.org/event/pre-texts-meetings-at-fontecchio/
ATTACH;FMTTYPE=image/jpeg:https://culturalagents.org/wp-content/uploads/2024/03/Fontecchio-flyer-edit.jpg
END:VEVENT
BEGIN:VEVENT
DTSTART;TZID=America/New_York:20240208T173000
DTEND;TZID=America/New_York:20240208T190000
DTSTAMP:20260421T003102
CREATED:20240314T182050Z
LAST-MODIFIED:20240404T160834Z
UID:2598-1707413400-1707418800@culturalagents.org
SUMMARY:Pre-Texts Meetings at Fontecchio
DESCRIPTION:Fontecchio is a town in Italy with about 300 inhabitants from approximately 15 different communities. Valeria Pica and Giulia Candeloro will lead a series of Pre-Texts meetings to read ‘Ritual’ by Dimitris Xygalatas and discuss social inclusion from the perspective of personal traditions.\nIt is organized in collaboration with the Municipality of Fontecchio and will be held in the local library.
URL:https://culturalagents.org/event/pre-texts-meetings-at-fontecchio-2/
ATTACH;FMTTYPE=image/jpeg:https://culturalagents.org/wp-content/uploads/2024/03/Fontecchio-flyer-edit.jpg
END:VEVENT
BEGIN:VEVENT
DTSTART;TZID=America/New_York:20240209T173000
DTEND;TZID=America/New_York:20240209T190000
DTSTAMP:20260421T003102
CREATED:20240314T182259Z
LAST-MODIFIED:20240404T160840Z
UID:2600-1707499800-1707505200@culturalagents.org
SUMMARY:Pre-Texts Meetings at Fontecchio
DESCRIPTION:Fontecchio is a town in Italy with about 300 inhabitants from approximately 15 different communities. Valeria Pica and Giulia Candeloro will lead a series of Pre-Texts meetings to read ‘Ritual’ by Dimitris Xygalatas and discuss social inclusion from the perspective of personal traditions.\nIt is organized in collaboration with the Municipality of Fontecchio and will be held in the local library.
URL:https://culturalagents.org/event/pre-texts-meetings-at-fontecchio-3/
ATTACH;FMTTYPE=image/jpeg:https://culturalagents.org/wp-content/uploads/2024/03/Fontecchio-flyer-edit.jpg
END:VEVENT
BEGIN:VEVENT
DTSTART;TZID=America/New_York:20240210T100000
DTEND;TZID=America/New_York:20240210T123000
DTSTAMP:20260421T003102
CREATED:20240306T194036Z
LAST-MODIFIED:20240404T160847Z
UID:2513-1707559200-1707568200@culturalagents.org
SUMMARY:Pre-Texts Training in Casa Arcobaleno
DESCRIPTION:Giulia Candeloro and Mara Patricelli will be facilitating a training at Casa Arcobaleno\, the point of meeting of all the LGBTQIA+ associations of Pescara\, Italy. Its aimed for activists\, teachers\, and cultural operators.
URL:https://culturalagents.org/event/pre-texts-training-in-casa-arcobaleno-2/
ATTACH;FMTTYPE=image/jpeg:https://culturalagents.org/wp-content/uploads/2024/03/flyer.jpg
END:VEVENT
BEGIN:VEVENT
DTSTART;TZID=America/New_York:20240210T173000
DTEND;TZID=America/New_York:20240210T190000
DTSTAMP:20260421T003102
CREATED:20240314T182434Z
LAST-MODIFIED:20240404T160854Z
UID:2602-1707586200-1707591600@culturalagents.org
SUMMARY:Pre-Texts Meetings at Fontecchio
DESCRIPTION:Fontecchio is a town in Italy with about 300 inhabitants from approximately 15 different communities. Valeria Pica and Giulia Candeloro will lead a series of Pre-Texts meetings to read ‘Ritual’ by Dimitris Xygalatas and discuss social inclusion from the perspective of personal traditions.\nIt is organized in collaboration with the Municipality of Fontecchio and will be held in the local library.
URL:https://culturalagents.org/event/pre-texts-meetings-at-fontecchio-4/
ATTACH;FMTTYPE=image/jpeg:https://culturalagents.org/wp-content/uploads/2024/03/Fontecchio-flyer-edit.jpg
END:VEVENT
BEGIN:VEVENT
DTSTART;TZID=America/New_York:20240212T190000
DTEND;TZID=America/New_York:20240212T190000
DTSTAMP:20260421T003102
CREATED:20240210T193515Z
LAST-MODIFIED:20240404T160900Z
UID:2560-1707764400-1707764400@culturalagents.org
SUMMARY:José Luis Falconi to Lecture at TCNJ Art Gallery
DESCRIPTION:More information here.
URL:https://culturalagents.org/event/jose-luis-falconi-to-lecture-at-tcnj-art-gallery/
ATTACH;FMTTYPE=image/jpeg:https://culturalagents.org/wp-content/uploads/2024/02/Ukrain_Poster2_page-0001.jpg
END:VEVENT
BEGIN:VEVENT
DTSTART;TZID=America/New_York:20240217T100000
DTEND;TZID=America/New_York:20240217T123000
DTSTAMP:20260421T003102
CREATED:20240306T194409Z
LAST-MODIFIED:20240404T160906Z
UID:2515-1708164000-1708173000@culturalagents.org
SUMMARY:Pre-Texts Training in Casa Arcobaleno
DESCRIPTION:Giulia Candeloro and Mara Patricelli will be facilitating a training at Casa Arcobaleno\, the point of meeting of all the LGBTQIA+ associations of Pescara\, Italy. Its aimed for activists\, teachers\, and cultural operators.
URL:https://culturalagents.org/event/pre-texts-training-in-casa-arcobaleno-3/
ATTACH;FMTTYPE=image/jpeg:https://culturalagents.org/wp-content/uploads/2024/03/flyer.jpg
END:VEVENT
BEGIN:VEVENT
DTSTART;TZID=America/New_York:20240217T110000
DTEND;TZID=America/New_York:20240217T130000
DTSTAMP:20260421T003102
CREATED:20240306T223239Z
LAST-MODIFIED:20240404T160747Z
UID:2517-1708167600-1708174800@culturalagents.org
SUMMARY:Pre-Texts Workshop in Archivio
DESCRIPTION:The network “Archives and Health” inaugurates in the Archivio di Stato di Modena a workshop of the  Pre-Texts  whose diffusion in Italy is coordinated by the Universities of Chieti and Pescara\, Cultural Agents and Harvard University.
URL:https://culturalagents.org/event/pre-texts-workshop-in-archivio/
ATTACH;FMTTYPE=image/jpeg:https://culturalagents.org/wp-content/uploads/2024/03/Pre-Texts-in-archive-flyer.jpg
END:VEVENT
BEGIN:VEVENT
DTSTART;TZID=America/New_York:20240221T153000
DTEND;TZID=America/New_York:20240221T163000
DTSTAMP:20260421T003102
CREATED:20240131T142831Z
LAST-MODIFIED:20240227T173232Z
UID:2403-1708529400-1708533000@culturalagents.org
SUMMARY:Pre-Texts International Book Launch
DESCRIPTION:
URL:https://culturalagents.org/event/pre-texts-international-book-launch/
ATTACH;FMTTYPE=image/png:https://culturalagents.org/wp-content/uploads/2024/01/Book-Launch-flyer-ed.png
END:VEVENT
BEGIN:VEVENT
DTSTART;TZID=America/New_York:20240223T153000
DTEND;TZID=America/New_York:20240223T193000
DTSTAMP:20260421T003102
CREATED:20240306T223548Z
LAST-MODIFIED:20240404T160740Z
UID:2520-1708702200-1708716600@culturalagents.org
SUMMARY:Pre-Texts Workshop in Archivio
DESCRIPTION:The network “Archives and Health” inaugurates in the Archivio di Stato di Modena a workshop of the  Pre-Texts  whose diffusion in Italy is coordinated by the Universities of Chieti and Pescara\, Cultural Agents and Harvard University.
URL:https://culturalagents.org/event/pre-texts-workshop-in-archivio-2/
ATTACH;FMTTYPE=image/jpeg:https://culturalagents.org/wp-content/uploads/2024/03/Pre-Texts-in-archive-flyer.jpg
END:VEVENT
BEGIN:VEVENT
DTSTART;TZID=America/New_York:20240227T170000
DTEND;TZID=America/New_York:20240227T200000
DTSTAMP:20260421T003102
CREATED:20240229T144006Z
LAST-MODIFIED:20240404T160733Z
UID:2473-1709053200-1709064000@culturalagents.org
SUMMARY:Workshop at the Colombian Consulate in Boston
DESCRIPTION:The Consulate of Colombia invites community leaders to a Pre-Texts training workshop led by Doris Sommer.
URL:https://culturalagents.org/event/workshop-at-the-colombian-consulate-in-boston/
ATTACH;FMTTYPE=image/jpeg:https://culturalagents.org/wp-content/uploads/2024/02/boston.jpg
END:VEVENT
BEGIN:VEVENT
DTSTART;TZID=America/New_York:20240302T090000
DTEND;TZID=America/New_York:20240302T120000
DTSTAMP:20260421T003102
CREATED:20240229T144255Z
LAST-MODIFIED:20240404T160726Z
UID:2479-1709370000-1709380800@culturalagents.org
SUMMARY:Workshop at the Colombian Consulate in Boston
DESCRIPTION:The Consulate of Colombia invites community leaders to a Pre-Texts training workshop led by Doris Sommer.
URL:https://culturalagents.org/event/workshop-at-the-colombian-consulate-in-boston-2/
ATTACH;FMTTYPE=image/jpeg:https://culturalagents.org/wp-content/uploads/2024/02/boston.jpg
END:VEVENT
BEGIN:VEVENT
DTSTART;TZID=America/New_York:20240302T110000
DTEND;TZID=America/New_York:20240302T130000
DTSTAMP:20260421T003102
CREATED:20240306T223829Z
LAST-MODIFIED:20240404T160719Z
UID:2522-1709377200-1709384400@culturalagents.org
SUMMARY:Pre-Texts Workshop in Archivio
DESCRIPTION:The network “Archives and Health” inaugurates in the Archivio di Stato di Modena a workshop of the  Pre-Texts  whose diffusion in Italy is coordinated by the Universities of Chieti and Pescara\, Cultural Agents and Harvard University.
URL:https://culturalagents.org/event/pre-texts-workshop-in-archivio-3/
ATTACH;FMTTYPE=image/jpeg:https://culturalagents.org/wp-content/uploads/2024/03/Pre-Texts-in-archive-flyer.jpg
END:VEVENT
BEGIN:VEVENT
DTSTART;TZID=America/New_York:20240305T170000
DTEND;TZID=America/New_York:20240305T200000
DTSTAMP:20260421T003102
CREATED:20240229T144517Z
LAST-MODIFIED:20240404T160710Z
UID:2481-1709658000-1709668800@culturalagents.org
SUMMARY:Workshop at the Colombian Consulate in Boston
DESCRIPTION:The Consulate of Colombia invites community leaders to a Pre-Texts training workshop led by Doris Sommer.
URL:https://culturalagents.org/event/workshop-at-the-colombian-consulate-in-boston-3/
ATTACH;FMTTYPE=image/jpeg:https://culturalagents.org/wp-content/uploads/2024/02/boston.jpg
END:VEVENT
BEGIN:VEVENT
DTSTART;TZID=America/New_York:20240306T170000
DTEND;TZID=America/New_York:20240306T200000
DTSTAMP:20260421T003102
CREATED:20240229T144700Z
LAST-MODIFIED:20240404T160703Z
UID:2483-1709744400-1709755200@culturalagents.org
SUMMARY:Workshop at the Colombian Consulate in Boston
DESCRIPTION:The Consulate of Colombia invites community leaders to a Pre-Texts training workshop led by Doris Sommer.
URL:https://culturalagents.org/event/workshop-at-the-colombian-consulate-in-boston-4/
ATTACH;FMTTYPE=image/jpeg:https://culturalagents.org/wp-content/uploads/2024/02/boston.jpg
END:VEVENT
BEGIN:VEVENT
DTSTART;TZID=America/New_York:20240309T110000
DTEND;TZID=America/New_York:20240309T130000
DTSTAMP:20260421T003102
CREATED:20240306T224015Z
LAST-MODIFIED:20240404T160656Z
UID:2524-1709982000-1709989200@culturalagents.org
SUMMARY:Pre-Texts Workshop in Archivio
DESCRIPTION:The network “Archives and Health” inaugurates in the Archivio di Stato di Modena a workshop of the  Pre-Texts  whose diffusion in Italy is coordinated by the Universities of Chieti and Pescara\, Cultural Agents and Harvard University.
URL:https://culturalagents.org/event/pre-texts-workshop-in-archivio-4/
ATTACH;FMTTYPE=image/jpeg:https://culturalagents.org/wp-content/uploads/2024/03/Pre-Texts-in-archive-flyer.jpg
END:VEVENT
BEGIN:VEVENT
DTSTART;TZID=America/New_York:20240316T110000
DTEND;TZID=America/New_York:20240316T130000
DTSTAMP:20260421T003102
CREATED:20240306T224232Z
LAST-MODIFIED:20240404T160649Z
UID:2526-1710586800-1710594000@culturalagents.org
SUMMARY:Pre-Texts Workshop in Archivio
DESCRIPTION:The network “Archives and Health” inaugurates in the Archivio di Stato di Modena a workshop of the  Pre-Texts  whose diffusion in Italy is coordinated by the Universities of Chieti and Pescara\, Cultural Agents and Harvard University.
URL:https://culturalagents.org/event/pre-texts-workshop-in-archivio-5/
ATTACH;FMTTYPE=image/jpeg:https://culturalagents.org/wp-content/uploads/2024/03/Pre-Texts-in-archive-flyer.jpg
END:VEVENT
BEGIN:VEVENT
DTSTART;TZID=America/New_York:20240320T170000
DTEND;TZID=America/New_York:20240320T190000
DTSTAMP:20260421T003102
CREATED:20240227T172837Z
LAST-MODIFIED:20240404T160641Z
UID:2451-1710954000-1710961200@culturalagents.org
SUMMARY:Harvard Pre-Texts training
DESCRIPTION:For further details\, write to culturalagents@gmail.com. 
URL:https://culturalagents.org/event/2451/
ATTACH;FMTTYPE=image/png:https://culturalagents.org/wp-content/uploads/2024/03/Harvard-Workshop-flyer.png
END:VEVENT
BEGIN:VEVENT
DTSTART;TZID=America/New_York:20240321T170000
DTEND;TZID=America/New_York:20240321T190000
DTSTAMP:20260421T003102
CREATED:20240227T173757Z
LAST-MODIFIED:20240404T160635Z
UID:2462-1711040400-1711047600@culturalagents.org
SUMMARY:Harvard Pre-Texts training
DESCRIPTION:For further details\, write to culturalagents@gmail.com. 
URL:https://culturalagents.org/event/harvard-pre-texts-training/
ATTACH;FMTTYPE=image/png:https://culturalagents.org/wp-content/uploads/2024/03/Harvard-Workshop-flyer.png
END:VEVENT
BEGIN:VEVENT
DTSTART;TZID=America/New_York:20240322T160000
DTEND;TZID=America/New_York:20240322T170000
DTSTAMP:20260421T003102
CREATED:20240131T171138Z
LAST-MODIFIED:20240404T160628Z
UID:2411-1711123200-1711126800@culturalagents.org
SUMMARY:Opera Trucks
DESCRIPTION:Fabio Cherstich\, producer of major operas in the Rome Opera House and the Massimo of Palermo also developed “Opera Trucks” to perform in vulnerable neighborhoods. He  will be presenting this work for  “Pedagogies for Life“\, the Seminar of the Mahindra Humanities Center.\nHe will be joined by Leandro Valiati\, cultural economist and co-author with Fabio of a future Case for Culture about the Opera Trucks \nFor more information\, please contact us at 💌 culturalagents@gmail.com.
URL:https://culturalagents.org/event/opera-trucks/
ATTACH;FMTTYPE=image/png:https://culturalagents.org/wp-content/uploads/2024/01/Opera-Trucks-2-2-ed.png
END:VEVENT
BEGIN:VEVENT
DTSTART;TZID=America/New_York:20240325T120000
DTEND;TZID=America/New_York:20240325T131500
DTSTAMP:20260421T003102
CREATED:20240311T191850Z
LAST-MODIFIED:20240404T160620Z
UID:2529-1711368000-1711372500@culturalagents.org
SUMMARY:Event: Roots of Resilience Project
DESCRIPTION:Roots of Resilience: Art and Heritage as Drivers of Socio-economic Development in the Iron Quadrangle – Brazil\nSpeaker: Leandro Valiati\, Senior Lecturer (Associate Professor) in Creative and Cultural Industries\, AHCP – Institute of Cultural Practices; Director\, MA Creative and Cultural Industries\, The University of Manchester. \nModerated by Doris Sommer.
URL:https://culturalagents.org/event/roots-of-resilience-project/
ATTACH;FMTTYPE=image/jpeg:https://culturalagents.org/wp-content/uploads/2024/03/Roots-of-resilience-flyer-edit.jpg
END:VEVENT
BEGIN:VEVENT
DTSTART;TZID=America/New_York:20240325T170000
DTEND;TZID=America/New_York:20240325T190000
DTSTAMP:20260421T003102
CREATED:20240227T174142Z
LAST-MODIFIED:20240404T154946Z
UID:2465-1711386000-1711393200@culturalagents.org
SUMMARY:Harvard Pre-Texts training
DESCRIPTION:For further details\, write to culturalagents@gmail.com.
URL:https://culturalagents.org/event/harvard-pre-texts-training-2/
ATTACH;FMTTYPE=image/png:https://culturalagents.org/wp-content/uploads/2024/02/Harvard-Workshop-flyer-edit.png
END:VEVENT
BEGIN:VEVENT
DTSTART;TZID=America/New_York:20240326T163000
DTEND;TZID=America/New_York:20240326T193000
DTSTAMP:20260421T003102
CREATED:20240306T191208Z
LAST-MODIFIED:20240404T154752Z
UID:2496-1711470600-1711481400@culturalagents.org
SUMMARY:Pre-Texts Workshop in Fondazione La Rocca
DESCRIPTION:From March 26th to 29th\, Fondazione La Rocca will host a Pre-Texts Workshop for  teachers and school directors\, as well as for social and health workers/operators and cultural associations that already have experience in cultural interventions with social impact.
URL:https://culturalagents.org/event/pre-texts-workshop-in-fondazione-la-rocca/
ATTACH;FMTTYPE=image/jpeg:https://culturalagents.org/wp-content/uploads/2024/03/Flyer-edit.jpg
END:VEVENT
BEGIN:VEVENT
DTSTART;TZID=America/New_York:20240326T170000
DTEND;TZID=America/New_York:20240326T190000
DTSTAMP:20260421T003102
CREATED:20240227T174258Z
LAST-MODIFIED:20240404T154744Z
UID:2469-1711472400-1711479600@culturalagents.org
SUMMARY:Harvard Pre-Texts training
DESCRIPTION:For further details\, write to culturalagents@gmail.com.
URL:https://culturalagents.org/event/harvard-pre-texts-training-3/
ATTACH;FMTTYPE=image/png:https://culturalagents.org/wp-content/uploads/2024/03/Harvard-Workshop-flyer.png
END:VEVENT
BEGIN:VEVENT
DTSTART;TZID=America/New_York:20240327T163000
DTEND;TZID=America/New_York:20240327T193000
DTSTAMP:20260421T003102
CREATED:20240306T191948Z
LAST-MODIFIED:20240404T154737Z
UID:2501-1711557000-1711567800@culturalagents.org
SUMMARY:Pre-Texts Workshop in Fondazione La Rocca
DESCRIPTION:From March 26th to 29th\, Fondazione La Rocca will host a Pre-Texts Workshop for  teachers and school directors\, as well as for social and health workers/operators and cultural associations that already have experience in cultural interventions with social impact.
URL:https://culturalagents.org/event/pre-texts-workshop-in-fondazione-la-rocca-2/
ATTACH;FMTTYPE=image/jpeg:https://culturalagents.org/wp-content/uploads/2024/03/Flyer-edit.jpg
END:VEVENT
BEGIN:VEVENT
DTSTART;TZID=America/New_York:20240328T100000
DTEND;TZID=America/New_York:20240328T123000
DTSTAMP:20260421T003102
CREATED:20240306T192222Z
LAST-MODIFIED:20240404T154705Z
UID:2503-1711620000-1711629000@culturalagents.org
SUMMARY:Pre-Texts Workshop in Fondazione La Rocca
DESCRIPTION:From March 26th to 29th\, Fondazione La Rocca will host a Pre-Texts Workshop for  teachers and school directors\, as well as for social and health workers/operators and cultural associations that already have experience in cultural interventions with social impact.
URL:https://culturalagents.org/event/pre-texts-workshop-in-fondazione-la-rocca-3/
ATTACH;FMTTYPE=image/jpeg:https://culturalagents.org/wp-content/uploads/2024/03/Flyer-edit.jpg
END:VEVENT
BEGIN:VEVENT
DTSTART;TZID=America/New_York:20240329T100000
DTEND;TZID=America/New_York:20240329T123000
DTSTAMP:20260421T003102
CREATED:20240306T192541Z
LAST-MODIFIED:20240404T154657Z
UID:2505-1711706400-1711715400@culturalagents.org
SUMMARY:Pre-Texts Workshop in Fondazione La Rocca
DESCRIPTION:From March 26th to 29th\, Fondazione La Rocca will host a Pre-Texts Workshop for  teachers and school directors\, as well as for social and health workers/operators and cultural associations that already have experience in cultural interventions with social impact.
URL:https://culturalagents.org/event/pre-texts-workshop-in-fondazione-la-rocca-4/
ATTACH;FMTTYPE=image/jpeg:https://culturalagents.org/wp-content/uploads/2024/03/Flyer-edit.jpg
END:VEVENT
BEGIN:VEVENT
DTSTART;TZID=America/New_York:20240430T080000
DTEND;TZID=America/New_York:20240430T170000
DTSTAMP:20260421T003102
CREATED:20240625T204437Z
LAST-MODIFIED:20240625T204437Z
UID:2932-1714464000-1714496400@culturalagents.org
SUMMARY:Slight Discomfort(s): Exploring Art’s Role in Human Rights
DESCRIPTION:
URL:https://culturalagents.org/event/slight-discomforts-exploring-arts-role-in-human-rights/
ATTACH;FMTTYPE=image/jpeg:https://culturalagents.org/wp-content/uploads/2024/05/JOSE-L.-FALCONI-Professor-of-art-and-human-rights-at-the-university-of-connecticut-April-30-2024-•-1500–1700-566x800-1.jpg
END:VEVENT
END:VCALENDAR