BEGIN:VCALENDAR
VERSION:2.0
PRODID:-//CULTURAL AGENTS - ECPv6.15.20//NONSGML v1.0//EN
CALSCALE:GREGORIAN
METHOD:PUBLISH
X-WR-CALNAME:CULTURAL AGENTS
X-ORIGINAL-URL:https://culturalagents.org
X-WR-CALDESC:Events for CULTURAL AGENTS
REFRESH-INTERVAL;VALUE=DURATION:PT1H
X-Robots-Tag:noindex
X-PUBLISHED-TTL:PT1H
BEGIN:VTIMEZONE
TZID:America/New_York
BEGIN:DAYLIGHT
TZOFFSETFROM:-0500
TZOFFSETTO:-0400
TZNAME:EDT
DTSTART:20210314T070000
END:DAYLIGHT
BEGIN:STANDARD
TZOFFSETFROM:-0400
TZOFFSETTO:-0500
TZNAME:EST
DTSTART:20211107T060000
END:STANDARD
BEGIN:DAYLIGHT
TZOFFSETFROM:-0500
TZOFFSETTO:-0400
TZNAME:EDT
DTSTART:20220313T070000
END:DAYLIGHT
BEGIN:STANDARD
TZOFFSETFROM:-0400
TZOFFSETTO:-0500
TZNAME:EST
DTSTART:20221106T060000
END:STANDARD
BEGIN:DAYLIGHT
TZOFFSETFROM:-0500
TZOFFSETTO:-0400
TZNAME:EDT
DTSTART:20230312T070000
END:DAYLIGHT
BEGIN:STANDARD
TZOFFSETFROM:-0400
TZOFFSETTO:-0500
TZNAME:EST
DTSTART:20231105T060000
END:STANDARD
BEGIN:DAYLIGHT
TZOFFSETFROM:-0500
TZOFFSETTO:-0400
TZNAME:EDT
DTSTART:20240310T070000
END:DAYLIGHT
BEGIN:STANDARD
TZOFFSETFROM:-0400
TZOFFSETTO:-0500
TZNAME:EST
DTSTART:20241103T060000
END:STANDARD
END:VTIMEZONE
BEGIN:VTIMEZONE
TZID:Africa/Nairobi
BEGIN:STANDARD
TZOFFSETFROM:+0300
TZOFFSETTO:+0300
TZNAME:EAT
DTSTART:20210101T000000
END:STANDARD
END:VTIMEZONE
BEGIN:VTIMEZONE
TZID:America/Bogota
BEGIN:STANDARD
TZOFFSETFROM:-0500
TZOFFSETTO:-0500
TZNAME:-05
DTSTART:20210101T000000
END:STANDARD
END:VTIMEZONE
BEGIN:VTIMEZONE
TZID:Pacific/Easter
BEGIN:STANDARD
TZOFFSETFROM:-0500
TZOFFSETTO:-0600
TZNAME:-06
DTSTART:20210404T030000
END:STANDARD
BEGIN:DAYLIGHT
TZOFFSETFROM:-0600
TZOFFSETTO:-0500
TZNAME:-05
DTSTART:20210905T040000
END:DAYLIGHT
BEGIN:STANDARD
TZOFFSETFROM:-0500
TZOFFSETTO:-0600
TZNAME:-06
DTSTART:20220403T030000
END:STANDARD
BEGIN:DAYLIGHT
TZOFFSETFROM:-0600
TZOFFSETTO:-0500
TZNAME:-05
DTSTART:20220911T040000
END:DAYLIGHT
BEGIN:STANDARD
TZOFFSETFROM:-0500
TZOFFSETTO:-0600
TZNAME:-06
DTSTART:20230402T030000
END:STANDARD
BEGIN:DAYLIGHT
TZOFFSETFROM:-0600
TZOFFSETTO:-0500
TZNAME:-05
DTSTART:20230903T040000
END:DAYLIGHT
END:VTIMEZONE
BEGIN:VTIMEZONE
TZID:Europe/Berlin
BEGIN:DAYLIGHT
TZOFFSETFROM:+0100
TZOFFSETTO:+0200
TZNAME:CEST
DTSTART:20210328T010000
END:DAYLIGHT
BEGIN:STANDARD
TZOFFSETFROM:+0200
TZOFFSETTO:+0100
TZNAME:CET
DTSTART:20211031T010000
END:STANDARD
BEGIN:DAYLIGHT
TZOFFSETFROM:+0100
TZOFFSETTO:+0200
TZNAME:CEST
DTSTART:20220327T010000
END:DAYLIGHT
BEGIN:STANDARD
TZOFFSETFROM:+0200
TZOFFSETTO:+0100
TZNAME:CET
DTSTART:20221030T010000
END:STANDARD
BEGIN:DAYLIGHT
TZOFFSETFROM:+0100
TZOFFSETTO:+0200
TZNAME:CEST
DTSTART:20230326T010000
END:DAYLIGHT
BEGIN:STANDARD
TZOFFSETFROM:+0200
TZOFFSETTO:+0100
TZNAME:CET
DTSTART:20231029T010000
END:STANDARD
END:VTIMEZONE
BEGIN:VTIMEZONE
TZID:UTC
BEGIN:STANDARD
TZOFFSETFROM:+0000
TZOFFSETTO:+0000
TZNAME:UTC
DTSTART:20210101T000000
END:STANDARD
END:VTIMEZONE
BEGIN:VEVENT
DTSTART;TZID=America/New_York:20230202T080000
DTEND;TZID=America/New_York:20230202T100000
DTSTAMP:20260421T205028
CREATED:20230210T231058Z
LAST-MODIFIED:20230210T231059Z
UID:2051-1675324800-1675332000@culturalagents.org
SUMMARY:Pre-Texts  Weavers and facilitators’ meeting
DESCRIPTION:
URL:https://culturalagents.org/event/pre-texts-weavers-and-facilitators-meeting-2/
ATTACH;FMTTYPE=image/jpeg:https://culturalagents.org/wp-content/uploads/2023/02/calendar-weav-feb.jpg
END:VEVENT
BEGIN:VEVENT
DTSTART;TZID=America/New_York:20230118T130000
DTEND;TZID=America/New_York:20230118T130000
DTSTAMP:20260421T205028
CREATED:20230105T141024Z
LAST-MODIFIED:20230105T142049Z
UID:1951-1674046800-1674046800@culturalagents.org
SUMMARY:Sound Cities: Community Music Ecosystems Series
DESCRIPTION:Know more about  Global Leaders Program
URL:https://culturalagents.org/event/sound-cities-community-music-ecosystems-series/
ATTACH;FMTTYPE=image/png:https://culturalagents.org/wp-content/uploads/2023/01/LOGO-DRCLAS.png
END:VEVENT
BEGIN:VEVENT
DTSTART;TZID=America/New_York:20230117T080000
DTEND;TZID=America/New_York:20230117T170000
DTSTAMP:20260421T205028
CREATED:20230210T212236Z
LAST-MODIFIED:20230210T212236Z
UID:2017-1673942400-1673974800@culturalagents.org
SUMMARY:Pre- Texts with the Shamiri Institute and MSF France (Doctors without Borders) Youth Program in Kenya 
DESCRIPTION:Shamiri Institute implements a Pre-Texts workshoprecently in partnership with the MSF France (Doctors without Borders)\nYouth Program in Kenya
URL:https://culturalagents.org/event/pre-texts-with-the-shamiri-institute-and-msf-france-doctors-without-borders-youth-program-in-kenya/
ATTACH;FMTTYPE=image/png:https://culturalagents.org/wp-content/uploads/2022/07/Captura-de-Pantalla-2022-07-14-a-las-16.51.04-e1676064105205.png
END:VEVENT
BEGIN:VEVENT
DTSTART;TZID=America/New_York:20230116T080000
DTEND;TZID=America/New_York:20230116T170000
DTSTAMP:20260421T205028
CREATED:20221221T182526Z
LAST-MODIFIED:20221221T183001Z
UID:1938-1673856000-1673888400@culturalagents.org
SUMMARY:Pre-Texts free virtual workshop by the Shamiri Institute
DESCRIPTION:Our team from the Shamiri Institute in Kenya facilitates free virtual workshops starting on 16th Jan 2023 for SHOFCO
URL:https://culturalagents.org/event/pre-texts-by-the-shamiri-institute-for-shofco-2/
ATTACH;FMTTYPE=image/png:https://culturalagents.org/wp-content/uploads/2022/07/606330a27b330201e92e64e4_square-logo-e1657827483246.png
END:VEVENT
BEGIN:VEVENT
DTSTART;TZID=America/New_York:20230115T080000
DTEND;TZID=America/New_York:20230115T170000
DTSTAMP:20260421T205028
CREATED:20221221T151537Z
LAST-MODIFIED:20221221T151758Z
UID:1929-1673769600-1673802000@culturalagents.org
SUMMARY:STS Conference Call for Abstracts Deadline
DESCRIPTION:The 9th STS Italia Conference invites scholars from Science & Technology Studies and cognate areas to unpack the ambiguous concept of “interest” as a necessary step to tackle the challenges faced by our planet and to design worlds to come from an inter-national\, inter-species and inter-generational justice perspective. \n\n\n\n\nRead the complete Conference Theme \n\n\n\n\nCall for abstracts\nThe 9th STS Italia Conference welcomes abstracts proposals contributing to the effort of unpacking the ambiguous concept of “interest” from a more-than-human perspective. Deadline January 15\, 2023. The conference is intended to provide a dynamic\, equal and multidisciplinary context to present conceptual\, methodological and analytical insights in the heterogeneous realm of social studies of science\, technology and innovation. \nNotably\, we invite abstract proposals about the list of panels in the full Call for Abstracts. \n\n\n\n\n\nAbstract submission\n\n\n\n\n\nIn order to submit an abstract please have a look at the Call for Abstracts and create an account on the conference platform https://www.conftool.org/stsitalia2023 \, then submit your contribution to the correct panel after account creation. \n\n\n\n\n\nVenue\nThe Conference will be held in Bologna\, Italy on June 28th-30th 2023 and is organized by the Italian Society of Science and Technology Studies\, in collaboration with the Department of Philosophy and Communication and the Department of Political and Social Sciences of the University of Bologna.
URL:https://culturalagents.org/event/sts-conference-call-for-abstracts-deadline/
ATTACH;FMTTYPE=image/png:https://culturalagents.org/wp-content/uploads/2022/12/Captura-de-pantalla-2022-12-21-a-las-12.02.18-e1671635858257.png
END:VEVENT
BEGIN:VEVENT
DTSTART;TZID=America/New_York:20230109T080000
DTEND;TZID=America/New_York:20230109T170000
DTSTAMP:20260421T205028
CREATED:20221221T155849Z
LAST-MODIFIED:20221221T160000Z
UID:1934-1673251200-1673283600@culturalagents.org
SUMMARY:MEDIA and MEDICINE: How to Tell Stories That Make a Difference\,HMSchool Certificate Program - Deadline
DESCRIPTION:Storytelling to Advance Health \n  \nThe intersection of health and media has never been more pronounced. We now have more media options to share our stories than ever before\, allowing us to create compelling narratives that convey both the challenges and the achievements of health care. MEDIA and MEDICINE: How to Tell Stories That Make a Difference is a Harvard Medical School certificate program for those interested in using storytelling to advance health.  Led by faculty directors Dr. Neal Baer (award-winning writer and producer of ER\, Law & Order SVU\, and Designated Survivor) and Dr. Suzanne Koven (Letter to a Young Female Physician and Writer in Residence at Massachusetts General Hospital)\, this three-part media intensive will give you the tools you need to make an impact. \n  \nThe next certificate of completion program begins on February 6\, 2023. \nApplications for the February cohort are due by January 9\, 2023\,  \n:https://ghsm.hms.harvard.edu/education/media-and-medicine 
URL:https://culturalagents.org/event/media-and-medicine-how-to-tell-stories-that-make-a-differencehmschool-certificate-program-deadline/
ATTACH;FMTTYPE=image/png:https://culturalagents.org/wp-content/uploads/2022/12/Captura-de-pantalla-2022-12-20-a-las-09.12.33-e1671638300487.png
END:VEVENT
BEGIN:VEVENT
DTSTART;TZID=Africa/Nairobi:20221209T090000
DTEND;TZID=Africa/Nairobi:20221209T150000
DTSTAMP:20260421T205028
CREATED:20220714T200238Z
LAST-MODIFIED:20220714T200442Z
UID:1751-1670576400-1670598000@culturalagents.org
SUMMARY:Pre-Texts by the Shamiri Institute for SHOFCO
DESCRIPTION:Our team from the Shamiri Institute in Kenya facilitates Pre-Texts for SHOFCO\, 7-8-9 December 2022.
URL:https://culturalagents.org/event/pre-texts-by-the-shamiri-institute-for-shofco/
ATTACH;FMTTYPE=image/png:https://culturalagents.org/wp-content/uploads/2022/07/Captura-de-Pantalla-2022-07-14-a-las-16.51.04-e1676064105205.png
END:VEVENT
BEGIN:VEVENT
DTSTART;TZID=Africa/Nairobi:20221208T090000
DTEND;TZID=Africa/Nairobi:20221208T150000
DTSTAMP:20260421T205028
CREATED:20220714T195722Z
LAST-MODIFIED:20220714T195850Z
UID:1748-1670490000-1670511600@culturalagents.org
SUMMARY:Pre-Texts by the Shamiri Intitute for SHOFCO
DESCRIPTION:Our team from the Shamiri Institute in Kenya facilitates Pre-Texts for SHOFCO\, 7-8-9 December 2022.
URL:https://culturalagents.org/event/pre-texts-by-the-shamiri-intitute-for-shofco/
ATTACH;FMTTYPE=image/png:https://culturalagents.org/wp-content/uploads/2022/07/Captura-de-Pantalla-2022-07-14-a-las-16.51.04-e1676064105205.png
END:VEVENT
BEGIN:VEVENT
DTSTART;TZID=Africa/Nairobi:20221207T090000
DTEND;TZID=Africa/Nairobi:20221207T150000
DTSTAMP:20260421T205028
CREATED:20220714T195215Z
LAST-MODIFIED:20220714T195501Z
UID:1740-1670403600-1670425200@culturalagents.org
SUMMARY:Pre-Texts by the Shamiri Institute for SHOFCO
DESCRIPTION:Our team from the Shamiri Institute in Kenya facilitates Pre-Texts for SHOFCO\, 7-8-9 December 2022.
URL:https://culturalagents.org/event/pre-texts-shamiri-institute-shofco/
ATTACH;FMTTYPE=image/png:https://culturalagents.org/wp-content/uploads/2022/07/Captura-de-Pantalla-2022-07-14-a-las-16.51.04-e1676064105205.png
END:VEVENT
BEGIN:VEVENT
DTSTART;TZID=America/New_York:20221203T100000
DTEND;TZID=America/New_York:20221203T170000
DTSTAMP:20260421T205028
CREATED:20220216T222110Z
LAST-MODIFIED:20221115T031814Z
UID:1460-1670061600-1670086800@culturalagents.org
SUMMARY:Cases for Culture Conference
DESCRIPTION:Cases for Culture will feature collaborations among distinguished artists\, humanists\, policy makers\, and entrepreneurs who promote the social contributions of creativity. The purpose is to multiply these contributions by generating HBS type cases that can inform new policy decisions. Brief narratives along with the measurable impact of creative interventions demonstrate  how and why participatory arts work to address “wicked” problems\, transversal by definition. Climate change\, economic development\, public health\, education\, violence prevention\, immigration\, etc.\, all require collaboration among academic\, political\, and economic actors. Our conference will explore how the arts and humanities bridge diverse fields and diverse communities. \n“Cases for Culture” conference\, hosted by the David Rockefeller Center for Latin American Studies at Harvard University.  December 2\, 3\, 2022. \nRegister Here
URL:https://culturalagents.org/event/cases-for-culture-conference-2/
ATTACH;FMTTYPE=image/png:https://culturalagents.org/wp-content/uploads/2022/02/rncfcbanner-e1645049895164.png
END:VEVENT
BEGIN:VEVENT
DTSTART;TZID=America/New_York:20221202T080000
DTEND;TZID=America/New_York:20221202T170000
DTSTAMP:20260421T205028
CREATED:20220216T220255Z
LAST-MODIFIED:20221124T112039Z
UID:1457-1669968000-1670000400@culturalagents.org
SUMMARY:Cases for Culture Conference
DESCRIPTION:Cases for Culture will feature collaborations among distinguished artists\, humanists\, policy makers\, and entrepreneurs who promote the social contributions of creativity. The purpose is to multiply these contributions by generating HBS type cases that can inform new policy decisions. Brief narratives along with the measurable impact of creative interventions demonstrate  how and why participatory arts work to address “wicked” problems\, transversal by definition. Climate change\, economic development\, public health\, education\, violence prevention\, immigration\, etc.\, all require collaboration among academic\, political\, and economic actors. Our conference will explore how the arts and humanities bridge diverse fields and diverse communities. \n“Cases for Culture” conference\, hosted by the David Rockefeller Center for Latin American Studies at Harvard University.  December 2\, 3\, 2022. Register Here
URL:https://culturalagents.org/event/cases-for-culture-conference/
ATTACH;FMTTYPE=image/png:https://culturalagents.org/wp-content/uploads/2022/02/rncfcbanner-e1645049895164.png
END:VEVENT
BEGIN:VEVENT
DTSTART;TZID=America/Bogota:20221125T073000
DTEND;TZID=America/Bogota:20221125T183000
DTSTAMP:20260421T205028
CREATED:20221119T181858Z
LAST-MODIFIED:20221119T182529Z
UID:1894-1669361400-1669401000@culturalagents.org
SUMMARY:XII CONGRESO INTERNACIONAL DE PENSAMIENTO LATINOAMERICANO: LA CONSTRUCCIÓN DE AMÉRICA LATINA\, UNIVERSIDAD LIBRE\, COLOMBIA
DESCRIPTION:
URL:https://culturalagents.org/event/xii-congreso-internacional-de-pensamiento-latinoamericano-la-construccion-de-america-latina-universidad-libre-colombia-2/
ATTACH;FMTTYPE=image/png:https://culturalagents.org/wp-content/uploads/2022/11/Captura-de-pantalla-2022-11-19-a-las-14.23.46-e1668910178863.png
END:VEVENT
BEGIN:VEVENT
DTSTART;TZID=America/Bogota:20221124T073000
DTEND;TZID=America/Bogota:20221124T183000
DTSTAMP:20260421T205028
CREATED:20221119T181523Z
LAST-MODIFIED:20221120T021008Z
UID:1892-1669275000-1669314600@culturalagents.org
SUMMARY:XII CONGRESO INTERNACIONAL DE PENSAMIENTO LATINOAMERICANO: LA CONSTRUCCIÓN DE AMÉRICA LATINA\, UNIVERSIDAD LIBRE\, COLOMBIA
DESCRIPTION:
URL:https://culturalagents.org/event/xii-congreso-internacional-de-pensamiento-latinoamericano-la-construccion-de-america-latina-universidad-libre-colombia/
ATTACH;FMTTYPE=image/png:https://culturalagents.org/wp-content/uploads/2022/11/Captura-de-pantalla-2022-11-19-a-las-14.23.46-e1668910178863.png
END:VEVENT
BEGIN:VEVENT
DTSTART;TZID=America/New_York:20221123T120000
DTEND;TZID=America/New_York:20221123T120000
DTSTAMP:20260421T205028
CREATED:20221119T150043Z
LAST-MODIFIED:20221119T150137Z
UID:1878-1669204800-1669204800@culturalagents.org
SUMMARY:1er COLOQUIO INTERNACIONAL EN TORNO A LA CONSTRUCCIÓN DEL CONCEPTO DE PAZ DESDE EL AULA
DESCRIPTION:La Dirección General de Educación Superior para Profesionales de la Educación (DGESuM) invita a toda la comunidad normalista a asistir al:\n“PRIMER COLOQUIO INTERNACIONAL EN TORNO A LA CONSTRUCCIÓN DEL CONCEPTO DE PAZ DESDE EL AULA” LECTURA POR LA PAZ\ncon la participación de:\nDra. Doris Sommer Universidad de Harvard\nDra. Paola Acosta Universidad Pedagógica Nacional de Colombia\nDra. María Vázquez Valdez Bibliotecas de la Cámara de Diputados\nDr. Benjamín Mayer Foulkes\, 17 Instituto de Estudios Críticos \nModeran: Mtro. Édgar Omar Avilés. Director de Profesionalización\nMtro. Rubén Ángel Henríquez Serrano\, Subdirector de Enfoques y Contenidos\nMiércoles 23 de noviembre a las 12:00 hrs (hora CDMX)\nhttps://cresur-edu-mx.zoom.us/j/98695020512\nhttps://www.youtube.com/@DGESuM-CEVIE
URL:https://culturalagents.org/event/1er-coloquio-internacional-en-torno-a-la-construccion-del-concepto-de-paz-desde-el-aula/
ATTACH;FMTTYPE=image/png:https://culturalagents.org/wp-content/uploads/2022/11/Captura-de-pantalla-2022-11-19-a-las-11.58.15.png
END:VEVENT
BEGIN:VEVENT
DTSTART;TZID=America/Bogota:20221123T073000
DTEND;TZID=America/Bogota:20221123T073000
DTSTAMP:20260421T205028
CREATED:20221119T174237Z
LAST-MODIFIED:20221120T021123Z
UID:1881-1669188600-1669188600@culturalagents.org
SUMMARY:XII CONGRESO INTERNACIONAL DE PENSAMIENTO LATINOAMERICANO: LA CONSTRUCCIÓN DE AMÉRICA LATINA\, UNIVERSIDAD LIBRE\, COLOMBIA
DESCRIPTION:
URL:https://culturalagents.org/event/xii-congreso-internacional-de-pe-i-la-construccion-de-america-latina/
ATTACH;FMTTYPE=image/png:https://culturalagents.org/wp-content/uploads/2022/11/Captura-de-pantalla-2022-11-19-a-las-14.23.46-e1668910178863.png
END:VEVENT
BEGIN:VEVENT
DTSTART;TZID=Pacific/Easter:20220926T143000
DTEND;TZID=Pacific/Easter:20220926T163000
DTSTAMP:20260421T205028
CREATED:20220913T122931Z
LAST-MODIFIED:20220913T123159Z
UID:1819-1664202600-1664209800@culturalagents.org
SUMMARY:Reimagining the Path to Recovery. Prof. Vikram Patel
DESCRIPTION:
URL:https://culturalagents.org/event/1819/
ATTACH;FMTTYPE=image/png:https://culturalagents.org/wp-content/uploads/2022/09/REIMAGINING.png
END:VEVENT
BEGIN:VEVENT
DTSTART;TZID=America/New_York:20220923T100000
DTEND;TZID=America/New_York:20220923T113000
DTSTAMP:20260421T205028
CREATED:20220908T160114Z
LAST-MODIFIED:20220915T214200Z
UID:1816-1663927200-1663932600@culturalagents.org
SUMMARY:XVI COLÓQUIO EDUCON
DESCRIPTION:On-line event 10 – 11.30 hs \nRegister at:XVI Colóquio Educon \nMESA-REDONDA INTERNACIONAL(45)\n“Arte\, Política e Pedagogia (Art\, Politics\, and Pedagogy)”\nProf. Dr. Bernard Charlot (UFS\, Brasil)\nProfa. Dra. Doris Sommer (Harvard University)\nCoord.: Prof. Dr. Matheus Batalha Moreira Nery (IFS/UNINASSAU\, Brasil)
URL:https://culturalagents.org/event/xvi-coloquio-educon/
ATTACH;FMTTYPE=image/png:https://culturalagents.org/wp-content/uploads/2022/09/Captura-de-Pantalla-2022-09-08-a-las-17.56.06-e1663260941778.png
END:VEVENT
BEGIN:VEVENT
DTSTART;TZID=America/New_York:20220922T183000
DTEND;TZID=America/New_York:20220922T213000
DTSTAMP:20260421T205028
CREATED:20220915T152923Z
LAST-MODIFIED:20220922T153214Z
UID:1839-1663871400-1663882200@culturalagents.org
SUMMARY:Documenta 15 in Review Goethe-Institute Boston
DESCRIPTION:
URL:https://culturalagents.org/event/documenta-15-in-review-goethe-institute-boston/
ATTACH;FMTTYPE=image/png:https://culturalagents.org/wp-content/uploads/2022/09/documenta-goethe.png
END:VEVENT
BEGIN:VEVENT
DTSTART;TZID=America/New_York:20220729T080000
DTEND;TZID=America/New_York:20220729T170000
DTSTAMP:20260421T205028
CREATED:20220704T181407Z
LAST-MODIFIED:20220711T220511Z
UID:1672-1659081600-1659114000@culturalagents.org
SUMMARY:Arts an Policy Certificate for Cities / Mannheim
DESCRIPTION:The First Certificate in Arts and Policy will be held in Mannheim\, Germany\, July 25-29\, coordinated by Dr. Liane Schmitt. \nrenaissancenow-cai.org/wp/arts-and-policy/
URL:https://culturalagents.org/event/certificate-in-arts-and-policy/
ATTACH;FMTTYPE=image/png:https://culturalagents.org/wp-content/uploads/2022/07/calendar-rn-1.png
END:VEVENT
BEGIN:VEVENT
DTSTART;TZID=America/New_York:20220728T080000
DTEND;TZID=America/New_York:20220728T170000
DTSTAMP:20260421T205028
CREATED:20220711T221028Z
LAST-MODIFIED:20220711T221028Z
UID:1738-1658995200-1659027600@culturalagents.org
SUMMARY:Arts ann Policy Certificate Report
DESCRIPTION:The First Certificate in Arts and Policy will be held in Mannheim\, Germany\, July 25-29\, coordinated by Dr. Liane Schmitt. \nrenaissancenow-cai.org/wp/arts-and-policy/-cai.org
URL:https://culturalagents.org/event/arts-ann-policy-certificate-report/
ATTACH;FMTTYPE=image/png:https://culturalagents.org/wp-content/uploads/2022/07/calendar-rn-1.png
END:VEVENT
BEGIN:VEVENT
DTSTART;TZID=America/New_York:20220727T080000
DTEND;TZID=America/New_York:20220727T170000
DTSTAMP:20260421T205028
CREATED:20220711T220812Z
LAST-MODIFIED:20220711T220908Z
UID:1735-1658908800-1658941200@culturalagents.org
SUMMARY:Arts and Policy Certificate for Cities / Mannheim
DESCRIPTION:The First Certificate in Arts and Policy will be held in Mannheim\, Germany\, July 25-29\, coordinated by Dr. Liane Schmitt. \nrenaissancenow-cai.org/wp/arts-and-policy/-cai.org
URL:https://culturalagents.org/event/arts-and-policy-certificate-for-cities-mannheim/
ATTACH;FMTTYPE=image/png:https://culturalagents.org/wp-content/uploads/2022/07/calendar-rn-1.png
END:VEVENT
BEGIN:VEVENT
DTSTART;TZID=America/New_York:20220726T080000
DTEND;TZID=America/New_York:20220726T170000
DTSTAMP:20260421T205028
CREATED:20220711T220654Z
LAST-MODIFIED:20220711T220727Z
UID:1733-1658822400-1658854800@culturalagents.org
SUMMARY:Arts and Policy Certificate for Cities
DESCRIPTION:The First Certificate in Arts and Policy will be held in Mannheim\, Germany\, July 25-29\, coordinated by Dr. Liane Schmitt. \nrenaissancenow-cai.org/wp/arts-and-policy/-cai.org
URL:https://culturalagents.org/event/arts-and-policy-certificate-for-cities/
ATTACH;FMTTYPE=image/png:https://culturalagents.org/wp-content/uploads/2022/07/calendar-rn-1.png
END:VEVENT
BEGIN:VEVENT
DTSTART;TZID=America/New_York:20220725T080000
DTEND;TZID=America/New_York:20220725T170000
DTSTAMP:20260421T205028
CREATED:20220704T183631Z
LAST-MODIFIED:20220711T220318Z
UID:1679-1658736000-1658768400@culturalagents.org
SUMMARY:Arts and Policy Certificate for Cities / Mannheim
DESCRIPTION:The First Certificate in Arts and Policy will be held in Mannheim\, Germany\, July 25-29\, coordinated by Dr. Liane Schmitt. \nrenaissancenow-cai.org/wp/arts-and-policy/-cai.org
URL:https://culturalagents.org/event/certificate-in-arts-and-policy-2/
ATTACH;FMTTYPE=image/png:https://culturalagents.org/wp-content/uploads/2022/07/calendar-rn-1.png
END:VEVENT
BEGIN:VEVENT
DTSTART;TZID=America/New_York:20220711T080000
DTEND;TZID=America/New_York:20220711T170000
DTSTAMP:20260421T205028
CREATED:20220701T175953Z
LAST-MODIFIED:20220720T180934Z
UID:1755-1657526400-1657558800@culturalagents.org
SUMMARY:Cultural Agents' Program Universidad Mayor Chile
DESCRIPTION:Cultural Agent’s program takes place at Universidad Mayor de Chile\,  11-30 June
URL:https://culturalagents.org/event/cultural-agents-program-universidad-mayor-chile/
ATTACH;FMTTYPE=image/png:https://culturalagents.org/wp-content/uploads/2022/07/header-logo.png
END:VEVENT
BEGIN:VEVENT
DTSTART;TZID=America/New_York:20220706T160000
DTEND;TZID=America/New_York:20220706T190000
DTSTAMP:20260421T205028
CREATED:20220630T201851Z
LAST-MODIFIED:20220630T201851Z
UID:1669-1657123200-1657134000@culturalagents.org
SUMMARY:Equity of gender and race through Pre-Texts
DESCRIPTION:
URL:https://culturalagents.org/event/equity-of-gender-and-race-through-pre-texts/
ATTACH;FMTTYPE=image/png:https://culturalagents.org/wp-content/uploads/2022/06/Captura-de-pantalla-2022-06-28-a-las-3.05.49-p.-m.-e1656620264802.png
END:VEVENT
BEGIN:VEVENT
DTSTART;TZID=Europe/Berlin:20220705T170000
DTEND;TZID=Europe/Berlin:20220705T200000
DTSTAMP:20260421T205028
CREATED:20220627T150428Z
LAST-MODIFIED:20220627T183750Z
UID:1645-1657040400-1657051200@culturalagents.org
SUMMARY:Pre-Texts session at CAMP!
DESCRIPTION:  \nDigital Pre-Texts session at CAMP\,  July 5\, 2022.   5 p.m Germany // 11 a.m EDT  // Register here
URL:https://culturalagents.org/event/pre-texts-session-on-camp/
ATTACH;FMTTYPE=image/png:https://culturalagents.org/wp-content/uploads/2022/06/camp.png
END:VEVENT
BEGIN:VEVENT
DTSTART;TZID=Europe/Berlin:20220626T170000
DTEND;TZID=Europe/Berlin:20220626T183000
DTSTAMP:20260421T205028
CREATED:20220618T195542Z
LAST-MODIFIED:20220630T201944Z
UID:1662-1656262800-1656268200@culturalagents.org
SUMMARY:Lecciones psra las Artes en contextos de Justicia Transicional
DESCRIPTION:Cultural Agent Jose Falconi participates in a series of conversation on Human rights\, Transitional Justice and The Arts at Documenta 15th
URL:https://culturalagents.org/event/lecciones-psra-las-artes-en-contextos-de-justicia-trancisional/
ATTACH;FMTTYPE=image/png:https://culturalagents.org/wp-content/uploads/2022/06/Captura-de-Pantalla-2022-06-27-a-las-16.56.41-e1656359857339.png
END:VEVENT
BEGIN:VEVENT
DTSTART;TZID=Europe/Berlin:20220625T170000
DTEND;TZID=Europe/Berlin:20220625T183000
DTSTAMP:20260421T205028
CREATED:20220625T185920Z
LAST-MODIFIED:20220627T195525Z
UID:1657-1656176400-1656181800@culturalagents.org
SUMMARY:Transitional Justice and the Arts
DESCRIPTION:Cultural agent Jose Falconi participates in a series of conversation at Documenta 15th
URL:https://culturalagents.org/event/transitional-justice-and-the-arts/
ATTACH;FMTTYPE=image/png:https://culturalagents.org/wp-content/uploads/2022/06/Captura-de-Pantalla-2022-06-27-a-las-15.53.50-e1656359626383.png
END:VEVENT
BEGIN:VEVENT
DTSTART;TZID=Europe/Berlin:20220624T170000
DTEND;TZID=Europe/Berlin:20220624T183000
DTSTAMP:20260421T205028
CREATED:20220624T183854Z
LAST-MODIFIED:20220627T185159Z
UID:1652-1656090000-1656095400@culturalagents.org
SUMMARY:The intersection of Human Rights and the Arts
DESCRIPTION:Cultural Agent José Falconi at Documenta 15th
URL:https://culturalagents.org/event/the-intersection-of-human-rights-and-the-arts/
ATTACH;FMTTYPE=image/png:https://culturalagents.org/wp-content/uploads/2022/06/Captura-de-Pantalla-2022-06-27-a-las-15.40.19-e1656355334721.png
END:VEVENT
BEGIN:VEVENT
DTSTART;TZID=UTC:20220606T170000
DTEND;TZID=UTC:20220606T190000
DTSTAMP:20260421T205028
CREATED:20220606T105240Z
LAST-MODIFIED:20220606T110427Z
UID:1606-1654534800-1654542000@culturalagents.org
SUMMARY:Conferencia IAP
DESCRIPTION:Register here
URL:https://culturalagents.org/event/1606/
ATTACH;FMTTYPE=image/jpeg:https://culturalagents.org/wp-content/uploads/2022/06/Maestro-ignoranteIG-1.jpg
END:VEVENT
END:VCALENDAR