BEGIN:VCALENDAR
VERSION:2.0
PRODID:-//CULTURAL AGENTS - ECPv6.15.20//NONSGML v1.0//EN
CALSCALE:GREGORIAN
METHOD:PUBLISH
X-WR-CALNAME:CULTURAL AGENTS
X-ORIGINAL-URL:https://culturalagents.org
X-WR-CALDESC:Events for CULTURAL AGENTS
REFRESH-INTERVAL;VALUE=DURATION:PT1H
X-Robots-Tag:noindex
X-PUBLISHED-TTL:PT1H
BEGIN:VTIMEZONE
TZID:America/Costa_Rica
BEGIN:STANDARD
TZOFFSETFROM:-0600
TZOFFSETTO:-0600
TZNAME:CST
DTSTART:20220101T000000
END:STANDARD
END:VTIMEZONE
BEGIN:VTIMEZONE
TZID:America/New_York
BEGIN:DAYLIGHT
TZOFFSETFROM:-0500
TZOFFSETTO:-0400
TZNAME:EDT
DTSTART:20220313T070000
END:DAYLIGHT
BEGIN:STANDARD
TZOFFSETFROM:-0400
TZOFFSETTO:-0500
TZNAME:EST
DTSTART:20221106T060000
END:STANDARD
BEGIN:DAYLIGHT
TZOFFSETFROM:-0500
TZOFFSETTO:-0400
TZNAME:EDT
DTSTART:20230312T070000
END:DAYLIGHT
BEGIN:STANDARD
TZOFFSETFROM:-0400
TZOFFSETTO:-0500
TZNAME:EST
DTSTART:20231105T060000
END:STANDARD
BEGIN:DAYLIGHT
TZOFFSETFROM:-0500
TZOFFSETTO:-0400
TZNAME:EDT
DTSTART:20240310T070000
END:DAYLIGHT
BEGIN:STANDARD
TZOFFSETFROM:-0400
TZOFFSETTO:-0500
TZNAME:EST
DTSTART:20241103T060000
END:STANDARD
END:VTIMEZONE
BEGIN:VTIMEZONE
TZID:Europe/Paris
BEGIN:DAYLIGHT
TZOFFSETFROM:+0100
TZOFFSETTO:+0200
TZNAME:CEST
DTSTART:20220327T010000
END:DAYLIGHT
BEGIN:STANDARD
TZOFFSETFROM:+0200
TZOFFSETTO:+0100
TZNAME:CET
DTSTART:20221030T010000
END:STANDARD
BEGIN:DAYLIGHT
TZOFFSETFROM:+0100
TZOFFSETTO:+0200
TZNAME:CEST
DTSTART:20230326T010000
END:DAYLIGHT
BEGIN:STANDARD
TZOFFSETFROM:+0200
TZOFFSETTO:+0100
TZNAME:CET
DTSTART:20231029T010000
END:STANDARD
BEGIN:DAYLIGHT
TZOFFSETFROM:+0100
TZOFFSETTO:+0200
TZNAME:CEST
DTSTART:20240331T010000
END:DAYLIGHT
BEGIN:STANDARD
TZOFFSETFROM:+0200
TZOFFSETTO:+0100
TZNAME:CET
DTSTART:20241027T010000
END:STANDARD
END:VTIMEZONE
BEGIN:VTIMEZONE
TZID:Europe/Rome
BEGIN:DAYLIGHT
TZOFFSETFROM:+0100
TZOFFSETTO:+0200
TZNAME:CEST
DTSTART:20220327T010000
END:DAYLIGHT
BEGIN:STANDARD
TZOFFSETFROM:+0200
TZOFFSETTO:+0100
TZNAME:CET
DTSTART:20221030T010000
END:STANDARD
BEGIN:DAYLIGHT
TZOFFSETFROM:+0100
TZOFFSETTO:+0200
TZNAME:CEST
DTSTART:20230326T010000
END:DAYLIGHT
BEGIN:STANDARD
TZOFFSETFROM:+0200
TZOFFSETTO:+0100
TZNAME:CET
DTSTART:20231029T010000
END:STANDARD
BEGIN:DAYLIGHT
TZOFFSETFROM:+0100
TZOFFSETTO:+0200
TZNAME:CEST
DTSTART:20240331T010000
END:DAYLIGHT
BEGIN:STANDARD
TZOFFSETFROM:+0200
TZOFFSETTO:+0100
TZNAME:CET
DTSTART:20241027T010000
END:STANDARD
END:VTIMEZONE
BEGIN:VEVENT
DTSTART;TZID=America/Costa_Rica:20230712T083000
DTEND;TZID=America/Costa_Rica:20230712T163000
DTSTAMP:20260421T194430
CREATED:20230611T121946Z
LAST-MODIFIED:20230611T133445Z
UID:2151-1689150600-1689179400@culturalagents.org
SUMMARY:II Encuentro Internacional de Editoriales Cartoneras - Costa Rica
DESCRIPTION:12\, 13 y 14 de julio 2023 \nCheck full Program
URL:https://culturalagents.org/event/ii-encuentro-internacional-de-editoriales-cartoneras-costa-rica/
ATTACH;FMTTYPE=image/jpeg:https://culturalagents.org/wp-content/uploads/2023/06/about-img.jpg
END:VEVENT
BEGIN:VEVENT
DTSTART;TZID=America/New_York:20230623T080000
DTEND;TZID=America/New_York:20230623T170000
DTSTAMP:20260421T194430
CREATED:20230210T210824Z
LAST-MODIFIED:20230210T210825Z
UID:2008-1687507200-1687539600@culturalagents.org
SUMMARY:Creative Bureaucracy Festival
DESCRIPTION:The Festival takes place on 15 June 2023 in Berlin. We start off with our Grand Opening and offer a packed programme with a Grand Finale including our Award Ceremony at the end of the festival\, followed by an evening reception. Once again we will kick off the new year with the Digital Kick-Off Day on 23 March 2023\, our free online event prior to the festival .Call for participation
URL:https://culturalagents.org/event/creative-bureaucracy-festival/
ATTACH;FMTTYPE=image/png:https://culturalagents.org/wp-content/uploads/2022/03/CBF-banner-e1647624692649.png
END:VEVENT
BEGIN:VEVENT
DTSTART;TZID=America/New_York:20230619T080000
DTEND;TZID=America/New_York:20230619T170000
DTSTAMP:20260421T194430
CREATED:20230611T140554Z
LAST-MODIFIED:20230611T142302Z
UID:2191-1687161600-1687194000@culturalagents.org
SUMMARY:Innovative Leadership: Transforming Higher Education in the Digital Age - At Harvard University
DESCRIPTION:June 19 -23 \nEach session’s topic seeks to promote an exchange of knowledge and experiences amongst participants\, and to inspire new lines of research across borders. \n\n\nThe speakers are prestigious professors who have extensive teaching and research experience and whose work has been widely published in their respective fields. Sessions are structured around the presentation of articles\, case studies\, and work of the speakers themselves\, presenting reviews of their work and the current state of issues involved \n\n\nFeaturing Doris Sommer\, THE PLEASURES OF ACTIVE LEARNING \n\nFull Information Here \n  \n 
URL:https://culturalagents.org/event/innovative-leadership-transforming-higher-education-in-the-digital-age-at-harvard-university/
ATTACH;FMTTYPE=image/png:https://culturalagents.org/wp-content/uploads/2023/06/Captura-de-pantalla-2023-06-11-a-las-16.14.57-e1686493054153.png
END:VEVENT
BEGIN:VEVENT
DTSTART;TZID=America/New_York:20230618T080000
DTEND;TZID=America/New_York:20230618T170000
DTSTAMP:20260421T194430
CREATED:20230210T211453Z
LAST-MODIFIED:20230210T221424Z
UID:2015-1687075200-1687107600@culturalagents.org
SUMMARY:Vienna Master of Arts in Applied Human Rights - Final Deadline
DESCRIPTION:The aim of the Vienna Master of Arts in Applied Human Rights is to explore the potential and practical applicability of artistic and cultural work in creating opportunities for promoting\, protecting and implementing human rights.\nStarting on October 2023. \nProgram and application
URL:https://culturalagents.org/event/vienna-master-of-arts-in-applied-human-rights-final-deadline/
ATTACH;FMTTYPE=image/png:https://culturalagents.org/wp-content/uploads/2023/02/Captura-de-pantalla-2023-01-31-a-las-13.11.51.png
END:VEVENT
BEGIN:VEVENT
DTSTART;TZID=Europe/Paris:20230616T100000
DTEND;TZID=Europe/Paris:20230616T120000
DTSTAMP:20260421T194430
CREATED:20230611T133152Z
LAST-MODIFIED:20230611T133234Z
UID:2186-1686909600-1686916800@culturalagents.org
SUMMARY:Science Po- École Urbaine - Paris
DESCRIPTION:Doris Sommer and  Tommaso Vittale meeting on June 16 at 10 a.m.
URL:https://culturalagents.org/event/science-po-ecole-urbaine-paris/
ATTACH;FMTTYPE=image/png:https://culturalagents.org/wp-content/uploads/2023/06/ecole-urbaine.png
END:VEVENT
BEGIN:VEVENT
DTSTART;TZID=Europe/Rome:20230613T140000
DTEND;TZID=Europe/Rome:20230613T190000
DTSTAMP:20260421T194430
CREATED:20230611T124419Z
LAST-MODIFIED:20230611T133616Z
UID:2170-1686664800-1686682800@culturalagents.org
SUMMARY:Biobehavioral Arts and Culture for Health – International Workshop -D’Annunzio University of Chieti – Pescara
DESCRIPTION:Doris Sommer will be present at the BACH International Workshop  on June 13th at 14.50. \nAsk for Link: bbs@unich.it \nBACH WORKSHOP PROGRAM \n 
URL:https://culturalagents.org/event/biobehavioral-arts-and-culture-for-health-dannunzio-university-of-chieti-pescara/
ATTACH;FMTTYPE=image/png:https://culturalagents.org/wp-content/uploads/2023/06/Captura-de-pantalla-2023-06-11-a-las-14.29.33-e1686487757943.png
END:VEVENT
BEGIN:VEVENT
DTSTART;TZID=Europe/Rome:20230612T170000
DTEND;TZID=Europe/Rome:20230612T190000
DTSTAMP:20260421T194430
CREATED:20230611T123448Z
LAST-MODIFIED:20230611T133650Z
UID:2163-1686589200-1686596400@culturalagents.org
SUMMARY:Biobehavioral Arts and Culture for Health - International Workshop - D'Annunzio University of Chieti - Pescara
DESCRIPTION:Ask for Link: bbs@unich.it \nBACH WORKSHOP PROGRAM
URL:https://culturalagents.org/event/biobehavioral-arts-and-culture-for-health/
ATTACH;FMTTYPE=image/png:https://culturalagents.org/wp-content/uploads/2023/06/Captura-de-pantalla-2023-06-11-a-las-14.29.33-e1686487757943.png
END:VEVENT
BEGIN:VEVENT
DTSTART;TZID=America/New_York:20230429T080000
DTEND;TZID=America/New_York:20230429T100000
DTSTAMP:20260421T194430
CREATED:20230210T231003Z
LAST-MODIFIED:20230210T231004Z
UID:2047-1682755200-1682762400@culturalagents.org
SUMMARY:Pre-Texts  Weavers and facilitators’ meeting
DESCRIPTION:
URL:https://culturalagents.org/event/pre-texts-weavers-and-facilitators-meeting/
ATTACH;FMTTYPE=image/jpeg:https://culturalagents.org/wp-content/uploads/2023/02/calendaar-weav-ap.jpg
END:VEVENT
BEGIN:VEVENT
DTSTART;TZID=America/New_York:20230423T080000
DTEND;TZID=America/New_York:20230423T170000
DTSTAMP:20260421T194430
CREATED:20230210T211351Z
LAST-MODIFIED:20230210T211352Z
UID:2013-1682236800-1682269200@culturalagents.org
SUMMARY:Vienna Master of Arts in Applied Human Rights - Second Deadline
DESCRIPTION:The aim of the Vienna Master of Arts in Applied Human Rights is to explore the potential and practical applicability of artistic and cultural work in creating opportunities for promoting\, protecting and implementing human rights.\nStarting on October 2023. \nProgram and application
URL:https://culturalagents.org/event/vienna-master-of-arts-in-applied-human-rights-second-deadline/
ATTACH;FMTTYPE=image/png:https://culturalagents.org/wp-content/uploads/2023/02/Captura-de-pantalla-2023-01-31-a-las-13.11.51.png
END:VEVENT
BEGIN:VEVENT
DTSTART;TZID=America/New_York:20230421T080000
DTEND;TZID=America/New_York:20230421T170000
DTSTAMP:20260421T194430
CREATED:20230418T080257Z
LAST-MODIFIED:20230418T080257Z
UID:2119-1682064000-1682096400@culturalagents.org
SUMMARY:Pre-Texts Workshop to improve Mental Health in Maipú. In Collaboration with the High Impact Coalition
DESCRIPTION:In collaboration with the High Impact Coalition\, we are launching a Pre-Texts Workshop to improve Mental Health in Maipú. The initiative aims to address issues of wellbeing in the municipality through a unique educational approach that combines literacy\, innovation\, and civics. Professor Sommer will lead the workshop which will take place from April 17th to April 21st\, between 10:00 am and 1:00 pm at the Municipal Theatre. The workshop will bring together community leaders\, municipal representatives\, and regional government officials. You can learn more about our work in Chile here.
URL:https://culturalagents.org/event/pre-texts-workshop-to-improve-mental-health-in-maipu-in-collaboration-with-the-high-impact-coalition-4/
ATTACH;FMTTYPE=image/jpeg:https://culturalagents.org/wp-content/uploads/2023/04/Captura-de-pantalla-2023-04-18-a-las-09.49.24-1.jpg
END:VEVENT
BEGIN:VEVENT
DTSTART;TZID=America/New_York:20230420T080000
DTEND;TZID=America/New_York:20230420T170000
DTSTAMP:20260421T194430
CREATED:20230418T075949Z
LAST-MODIFIED:20230418T080436Z
UID:2117-1681977600-1682010000@culturalagents.org
SUMMARY:Pre-Texts Workshop to improve Mental Health in Maipú. In Collaboration with the High Impact Coalition
DESCRIPTION:In collaboration with the High Impact Coalition\, we are launching a Pre-Texts Workshop to improve Mental Health in Maipú. The initiative aims to address issues of wellbeing in the municipality through a unique educational approach that combines literacy\, innovation\, and civics. Professor Sommer will lead the workshop which will take place from April 17th to April 21st\, between 10:00 am and 1:00 pm at the Municipal Theatre. The workshop will bring together community leaders\, municipal representatives\, and regional government officials. You can learn more about our work in Chile here.
URL:https://culturalagents.org/event/pre-texts-workshop-to-improve-mental-health-in-maipu-in-collaboration-with-the-high-impact-coalition-3/
ATTACH;FMTTYPE=image/jpeg:https://culturalagents.org/wp-content/uploads/2023/04/Captura-de-pantalla-2023-04-18-a-las-09.49.24-1.jpg
END:VEVENT
BEGIN:VEVENT
DTSTART;TZID=America/New_York:20230419T080000
DTEND;TZID=America/New_York:20230419T170000
DTSTAMP:20260421T194430
CREATED:20230418T075908Z
LAST-MODIFIED:20230418T080521Z
UID:2115-1681891200-1681923600@culturalagents.org
SUMMARY:Pre-Texts Workshop to improve Mental Health in Maipú. In Collaboration with the High Impact Coalition
DESCRIPTION:In collaboration with the High Impact Coalition\, we are launching a Pre-Texts Workshop to improve Mental Health in Maipú. The initiative aims to address issues of wellbeing in the municipality through a unique educational approach that combines literacy\, innovation\, and civics. Professor Sommer will lead the workshop which will take place from April 17th to April 21st\, between 10:00 am and 1:00 pm at the Municipal Theatre. The workshop will bring together community leaders\, municipal representatives\, and regional government officials. You can learn more about our work in Chile here.
URL:https://culturalagents.org/event/pre-texts-workshop-to-improve-mental-health-in-maipu-in-collaboration-with-the-high-impact-coalition-2/
ATTACH;FMTTYPE=image/jpeg:https://culturalagents.org/wp-content/uploads/2023/04/Captura-de-pantalla-2023-04-18-a-las-09.49.24-1.jpg
END:VEVENT
BEGIN:VEVENT
DTSTART;TZID=America/New_York:20230418T080000
DTEND;TZID=America/New_York:20230418T170000
DTSTAMP:20260421T194430
CREATED:20230418T075627Z
LAST-MODIFIED:20230418T075807Z
UID:2110-1681804800-1681837200@culturalagents.org
SUMMARY:Pre-Texts Workshop to improve Mental Health in Maipú. In collaboration with the High Impact Coalition
DESCRIPTION:In collaboration with the High Impact Coalition\, we are launching a Pre-Texts Workshop to improve Mental Health in Maipú. The initiative aims to address issues of wellbeing in the municipality through a unique educational approach that combines literacy\, innovation\, and civics. Professor Sommer will lead the workshop which will take place from April 17th to April 21st\, between 10:00 am and 1:00 pm at the Municipal Theatre. The workshop will bring together community leaders\, municipal representatives\, and regional government officials. You can learn more about our work in Chile here.
URL:https://culturalagents.org/event/in-collaboration-with-the-high-impact-coalition-we-are-launching-a-pre-texts-workshop-to-improve-mental-health-in-maipu-the-initiative-aims-to-address-issues-of-wellbeing-in-the-municipality-through/
ATTACH;FMTTYPE=image/jpeg:https://culturalagents.org/wp-content/uploads/2023/04/Captura-de-pantalla-2023-04-18-a-las-09.49.24-1.jpg
END:VEVENT
BEGIN:VEVENT
DTSTART;TZID=America/New_York:20230417T080000
DTEND;TZID=America/New_York:20230417T170000
DTSTAMP:20260421T194430
CREATED:20230418T075446Z
LAST-MODIFIED:20230418T080328Z
UID:2107-1681718400-1681750800@culturalagents.org
SUMMARY:Pre-Texts Workshop to improve Mental Health in Maipú. In Collaboration with the High Impact Coalition
DESCRIPTION:In collaboration with the High Impact Coalition\, we are launching a Pre-Texts Workshop to improve Mental Health in Maipú. The initiative aims to address issues of wellbeing in the municipality through a unique educational approach that combines literacy\, innovation\, and civics. Professor Sommer will lead the workshop which will take place from April 17th to April 21st\, between 10:00 am and 1:00 pm at the Municipal Theatre. The workshop will bring together community leaders\, municipal representatives\, and regional government officials. You can learn more about our work in Chile here. \n 
URL:https://culturalagents.org/event/pre-texts-workshop-to-improve-mental-health-in-maipu-in-collaboration-with-the-high-impact-coalition/
ATTACH;FMTTYPE=image/jpeg:https://culturalagents.org/wp-content/uploads/2023/04/Captura-de-pantalla-2023-04-18-a-las-09.49.24-1.jpg
END:VEVENT
BEGIN:VEVENT
DTSTART;TZID=America/New_York:20230415T080000
DTEND;TZID=America/New_York:20230415T170000
DTSTAMP:20260421T194430
CREATED:20230418T074738Z
LAST-MODIFIED:20230418T074738Z
UID:2104-1681545600-1681578000@culturalagents.org
SUMMARY:Certificado para Ciudades / Padre Las Casas
DESCRIPTION:Our Arts and Policy Certificate for Cities focused on public innovation through the arts. \nThis edition will take place on April 14th and 15th in Padre las Casas\, a municipality in the Araucanía Region of Chile. 48.2% of the population in this region identified as Mapuche. We are honored to have the presence of Mayor Mario González\, members of his cabinet\, and community leaders from civil society. Read more about our Certificate here.
URL:https://culturalagents.org/event/certificado-para-ciudades-padre-las-casas/
ATTACH;FMTTYPE=image/jpeg:https://culturalagents.org/wp-content/uploads/2023/04/Ig-Padre-las-casas.jpg
END:VEVENT
BEGIN:VEVENT
DTSTART;TZID=America/New_York:20230414T080000
DTEND;TZID=America/New_York:20230414T170000
DTSTAMP:20260421T194430
CREATED:20230418T074631Z
LAST-MODIFIED:20230418T074804Z
UID:2099-1681459200-1681491600@culturalagents.org
SUMMARY:Certificado para Ciudades / Padre Las Casas
DESCRIPTION:Our Arts and Policy Certificate for Cities focused on public innovation through the arts. \nThis edition will take place on April 14th and 15th in Padre las Casas\, a municipality in the Araucanía Region of Chile. 48.2% of the population in this region identified as Mapuche. We are honored to have the presence of Mayor Mario González\, members of his cabinet\, and community leaders from civil society. Read more about our Certificate here.
URL:https://culturalagents.org/event/certificado-para-ciudades-padres-las-casas/
ATTACH;FMTTYPE=image/jpeg:https://culturalagents.org/wp-content/uploads/2023/04/Ig-Padre-las-casas.jpg
END:VEVENT
BEGIN:VEVENT
DTSTART;TZID=America/New_York:20230323T080000
DTEND;TZID=America/New_York:20230323T170000
DTSTAMP:20260421T194430
CREATED:20230210T210613Z
LAST-MODIFIED:20230210T210614Z
UID:2006-1679558400-1679590800@culturalagents.org
SUMMARY:Creative Bureaucracy Festival - Digital Kick-Off Day
DESCRIPTION:The Festival takes place on 15 June 2023 in Berlin. We start off with our Grand Opening and offer a packed programme with a Grand Finale including our Award Ceremony at the end of the festival\, followed by an evening reception. Once again we will kick off the new year with the Digital Kick-Off Day on 23 March 2023\, our free online event prior to the festival .Call for participation
URL:https://culturalagents.org/event/creative-bureaucracy-festival-digital-kick-off-day/
ATTACH;FMTTYPE=image/png:https://culturalagents.org/wp-content/uploads/2022/03/creative-bureaucracy-fest-e1647624787656.png
END:VEVENT
BEGIN:VEVENT
DTSTART;TZID=America/New_York:20230322T153000
DTEND;TZID=America/New_York:20230322T170000
DTSTAMP:20260421T194430
CREATED:20230213T171130Z
LAST-MODIFIED:20230213T171130Z
UID:2053-1679499000-1679504400@culturalagents.org
SUMMARY:“Mental Health By All Means”
DESCRIPTION:  \n“Mental Health By All Means” \nWith Vikram Patel\, Ricardo Araya\, Fawwaz Habbal\, Mario Valdivia \n https://www.healthlabaccelerator.harvard.edu/
URL:https://culturalagents.org/event/mental-health-by-all-means/
ATTACH;FMTTYPE=image/webp:https://culturalagents.org/wp-content/uploads/2023/02/harvard-heatlhlab.webp
END:VEVENT
BEGIN:VEVENT
DTSTART;TZID=America/New_York:20230318T080000
DTEND;TZID=America/New_York:20230318T170000
DTSTAMP:20260421T194430
CREATED:20230210T222201Z
LAST-MODIFIED:20230211T170718Z
UID:2042-1679126400-1679158800@culturalagents.org
SUMMARY:Pre-Texts Training Workshop Online
DESCRIPTION:If you want to become a Pre-Texts facilitator\, don’t miss the training workshop to be given by Tálata Rodríguez on March 18\, 25\, April 1\, 8\, 2023\, via zoom. \nRegister Here
URL:https://culturalagents.org/event/pre-texts-training-workshop-online/
ATTACH;FMTTYPE=image/png:https://culturalagents.org/wp-content/uploads/2023/02/calendario-pre-texts-march-2023.png
END:VEVENT
BEGIN:VEVENT
DTSTART;TZID=America/New_York:20230318T080000
DTEND;TZID=America/New_York:20230318T170000
DTSTAMP:20260421T194430
CREATED:20230210T221725Z
LAST-MODIFIED:20230210T221726Z
UID:2040-1679126400-1679158800@culturalagents.org
SUMMARY:Pre-Texts at Università degli Studi "G. d'Annunzio" Chieti - Pescara\, Italy
DESCRIPTION:Know more about Pre-Texts \nPre-Texts.org
URL:https://culturalagents.org/event/pre-texts-at-universita-degli-studi-g-dannunzio-chieti-pescara-italy-5/
ATTACH;FMTTYPE=image/jpeg:https://culturalagents.org/wp-content/uploads/2023/02/pescara2-1.jpg
END:VEVENT
BEGIN:VEVENT
DTSTART;TZID=America/New_York:20230317T080000
DTEND;TZID=America/New_York:20230317T170000
DTSTAMP:20260421T194430
CREATED:20230210T221614Z
LAST-MODIFIED:20230210T221813Z
UID:2038-1679040000-1679072400@culturalagents.org
SUMMARY:Pre-Texts at Università degli Studi "G. d'Annunzio" Chieti - Pescara\, Italy
DESCRIPTION:Know more about Pre-Texts \nPre-Texts.org
URL:https://culturalagents.org/event/pre-texts-at-universita-degli-studi-g-dannunzio-chieti-pescara-italy-4/
ATTACH;FMTTYPE=image/jpeg:https://culturalagents.org/wp-content/uploads/2023/02/pescara2-1.jpg
END:VEVENT
BEGIN:VEVENT
DTSTART;TZID=America/New_York:20230316T080000
DTEND;TZID=America/New_York:20230316T170000
DTSTAMP:20260421T194430
CREATED:20230210T221101Z
LAST-MODIFIED:20230210T221101Z
UID:2034-1678953600-1678986000@culturalagents.org
SUMMARY:Pre-Texts at Università degli Studi "G. d'Annunzio" Chieti - Pescara\, Italy
DESCRIPTION:Know more about Pre-Texts \nPre-Texts.org
URL:https://culturalagents.org/event/pre-texts-at-universita-degli-studi-g-dannunzio-chieti-pescara-italy-3/
ATTACH;FMTTYPE=image/jpeg:https://culturalagents.org/wp-content/uploads/2023/02/pescara2-1.jpg
END:VEVENT
BEGIN:VEVENT
DTSTART;TZID=America/New_York:20230315T080000
DTEND;TZID=America/New_York:20230315T170000
DTSTAMP:20260421T194430
CREATED:20230210T220832Z
LAST-MODIFIED:20230210T221202Z
UID:2032-1678867200-1678899600@culturalagents.org
SUMMARY:Pre-Texts at Università degli Studi "G. d'Annunzio" Chieti - Pescara\, Italy
DESCRIPTION:Know more about Pre-Texts \nPre-Texts.org
URL:https://culturalagents.org/event/pre-texts-at-universita-degli-studi-g-dannunzio-chieti-pescara-italy-2/
ATTACH;FMTTYPE=image/jpeg:https://culturalagents.org/wp-content/uploads/2023/02/pescara2-1.jpg
END:VEVENT
BEGIN:VEVENT
DTSTART;TZID=America/New_York:20230314T080000
DTEND;TZID=America/New_York:20230314T170000
DTSTAMP:20260421T194430
CREATED:20230210T220236Z
LAST-MODIFIED:20230210T221322Z
UID:2019-1678780800-1678813200@culturalagents.org
SUMMARY:Pre-Texts at Università degli Studi "G. d'Annunzio" Chieti - Pescara\, Italy
DESCRIPTION:Know more about Pre-Texts \nPre-Texts.org
URL:https://culturalagents.org/event/pre-texts-at-universita-degli-studi-g-dannunzio-chieti-pescara-italy/
ATTACH;FMTTYPE=image/jpeg:https://culturalagents.org/wp-content/uploads/2023/02/pescara2-e1676066695203.jpg
END:VEVENT
BEGIN:VEVENT
DTSTART;TZID=America/New_York:20230311T080000
DTEND;TZID=America/New_York:20230311T170000
DTSTAMP:20260421T194430
CREATED:20230210T210104Z
LAST-MODIFIED:20230210T210323Z
UID:2003-1678521600-1678554000@culturalagents.org
SUMMARY:MABE’s 2023 Annual Dual Language Conference
DESCRIPTION:Our Pre-Texts facilitator\, Olatz Etxebarria\, will offer a talk about her work in the classroom in MABE’s 2023 Annual Dual Language Conference next edition.
URL:https://culturalagents.org/event/mabes-2023-annual-dual-language-conference/
ATTACH;FMTTYPE=image/png:https://culturalagents.org/wp-content/uploads/2023/02/pasted-image-0.png
END:VEVENT
BEGIN:VEVENT
DTSTART;TZID=America/New_York:20230309T190000
DTEND;TZID=America/New_York:20230309T230000
DTSTAMP:20260421T194430
CREATED:20230304T223900Z
LAST-MODIFIED:20230329T225045Z
UID:2091-1678388400-1678402800@culturalagents.org
SUMMARY:Arts and Leadership Dinner Series\, France 
DESCRIPTION:The Harvard Club of France launched a new program that aims to be a platform for dialogue on the intersection between arts and leadership. The first event featured a presentation by Harvard Professor Doris Sommer and her colleague Rainer Kern\, artistic director of Enjoy Jazz\, Germany.
URL:https://culturalagents.org/event/2091/
ATTACH;FMTTYPE=image/png:https://culturalagents.org/wp-content/uploads/2023/03/pasted-image-0-3.png
END:VEVENT
BEGIN:VEVENT
DTSTART;TZID=America/New_York:20230304T080000
DTEND;TZID=America/New_York:20230304T170000
DTSTAMP:20260421T194430
CREATED:20230210T205747Z
LAST-MODIFIED:20230210T205748Z
UID:2001-1677916800-1677949200@culturalagents.org
SUMMARY:Pre-Texts workshop at RE-PAIR Tennessee Triennial
DESCRIPTION:Doris Sommer will offer a Pre-Texts workshop at RE-PAIR Tennessee Triennial\, from March 1st to March 4th in Nashville. ‘’RE-PAIR invites us all to participate deeply as artists\, organizers\, and public(s) in the invigoration at the intersection of art and sociability. The overarching theme of Re-pair solicits an empathetic consideration of context and space\, history\, and commons\, deeply woven into the fabric of Tennessee’s roots. In order to RE-PAIR\, one must locate what is at fault\, in order to heal\, one must find the wound. RE-PAIR is all in love’’. María Magdalena Campos-Pons Consulting Tennessee Triennial Curator and Ambassador. Click here to visit the RE-PAIR site.
URL:https://culturalagents.org/event/pre-texts-workshop-at-re-pair-tennessee-triennial-4/
ATTACH;FMTTYPE=image/png:https://culturalagents.org/wp-content/uploads/2023/02/Captura-de-pantalla-2023-02-10-a-las-15.38.12.png
END:VEVENT
BEGIN:VEVENT
DTSTART;TZID=America/New_York:20230303T080000
DTEND;TZID=America/New_York:20230303T170000
DTSTAMP:20260421T194430
CREATED:20230210T205524Z
LAST-MODIFIED:20230210T205644Z
UID:1999-1677830400-1677862800@culturalagents.org
SUMMARY:Pre-Texts workshop at RE-PAIR Tennessee Triennial
DESCRIPTION:Doris Sommer will offer a Pre-Texts workshop at RE-PAIR Tennessee Triennial\, from March 1st to March 4th in Nashville. ‘’RE-PAIR invites us all to participate deeply as artists\, organizers\, and public(s) in the invigoration at the intersection of art and sociability. The overarching theme of Re-pair solicits an empathetic consideration of context and space\, history\, and commons\, deeply woven into the fabric of Tennessee’s roots. In order to RE-PAIR\, one must locate what is at fault\, in order to heal\, one must find the wound. RE-PAIR is all in love’’. María Magdalena Campos-Pons Consulting Tennessee Triennial Curator and Ambassador. Click here to visit the RE-PAIR site.
URL:https://culturalagents.org/event/pre-texts-workshop-at-re-pair-tennessee-triennial-3/
ATTACH;FMTTYPE=image/png:https://culturalagents.org/wp-content/uploads/2023/02/Captura-de-pantalla-2023-02-10-a-las-15.38.12.png
END:VEVENT
BEGIN:VEVENT
DTSTART;TZID=America/New_York:20230303T080000
DTEND;TZID=America/New_York:20230303T170000
DTSTAMP:20260421T194430
CREATED:20230210T204735Z
LAST-MODIFIED:20230210T204945Z
UID:1989-1677830400-1677862800@culturalagents.org
SUMMARY:WORLD SUMMIT OF ARTS EDUCATION '2023 Funchal\, Madeira\, Portugal
DESCRIPTION:  \nWhat is the role of arts in processes of social transformation and in the innovation of the culture of peace? How to introduce the culture of peace in teaching spaces through arts?\nFeat. Doris Sommer\, Ángeles Saura y Fco. Ortuño-Millán. \nCheck the Summit web page
URL:https://culturalagents.org/event/world-summit-of-arts-education-funchal-madeira-portugal/
ATTACH;FMTTYPE=image/jpeg:https://culturalagents.org/wp-content/uploads/2023/02/WSAE2023logo_Original.jpg
END:VEVENT
BEGIN:VEVENT
DTSTART;TZID=America/New_York:20230302T080000
DTEND;TZID=America/New_York:20230302T170000
DTSTAMP:20260421T194430
CREATED:20230210T205412Z
LAST-MODIFIED:20230210T205413Z
UID:1997-1677744000-1677776400@culturalagents.org
SUMMARY:Pre-Texts workshop at RE-PAIR Tennessee Triennial
DESCRIPTION:Doris Sommer will offer a Pre-Texts workshop at RE-PAIR Tennessee Triennial\, from March 1st to March 4th in Nashville. ‘’RE-PAIR invites us all to participate deeply as artists\, organizers\, and public(s) in the invigoration at the intersection of art and sociability. The overarching theme of Re-pair solicits an empathetic consideration of context and space\, history\, and commons\, deeply woven into the fabric of Tennessee’s roots. In order to RE-PAIR\, one must locate what is at fault\, in order to heal\, one must find the wound. RE-PAIR is all in love’’. María Magdalena Campos-Pons Consulting Tennessee Triennial Curator and Ambassador. Click here to visit the RE-PAIR site.
URL:https://culturalagents.org/event/pre-texts-workshop-at-re-pair-tennessee-triennial-2/
ATTACH;FMTTYPE=image/png:https://culturalagents.org/wp-content/uploads/2023/02/Captura-de-pantalla-2023-02-10-a-las-15.38.12.png
END:VEVENT
END:VCALENDAR